BEGIN:VCALENDAR
VERSION:2.0
PRODID:-//InvisionCommunity Events 4.7.23//EN
METHOD:PUBLISH
CALSCALE:GREGORIAN
REFRESH-INTERVAL:PT15M
X-PUBLISHED-TTL:PT15M
X-WR-CALNAME:At My TV
NAME:At My TV
BEGIN:VTIMEZONE
TZID:Europe/London
TZURL:http://tzurl.org/zoneinfo/Europe/London
X-LIC-LOCATION:Europe/London
BEGIN:DAYLIGHT
TZOFFSETFROM:+0000
TZOFFSETTO:+0100
TZNAME:BST
DTSTART:20240331T020000Z
RRULE:FREQ=YEARLY;BYMONTH=3;BYDAY=-1SU
END:DAYLIGHT
BEGIN:STANDARD
TZOFFSETFROM:+0100
TZOFFSETTO:+0000
TZNAME:GMT
DTSTART:20241027T020000Z
RRULE:FREQ=YEARLY;BYMONTH=10;BYDAY=-1SU
END:STANDARD
END:VTIMEZONE
BEGIN:VEVENT
SUMMARY:Real Time with Bill Maher 22x35 - Dr. Casey Means\, ChrisCuo
	mo\, Mary Katharine Ham
DTSTAMP:20241110T105523Z
SEQUENCE:0
UID:188448-2-841ebed20eb198c4569419e99b7bf40a@themidnightzone.com
ORGANIZER;CN="Midnight":midnight@themidnightzone.com
DESCRIPTION:This week features a one-on-one interview with Dr. CaseyMea
	ns\, co-founder of Levels metabolic health company andco-author of the #1 
	New York Times bestselling book \"GoodEnergy: The Surprising Connection Be
	tween Metabolism andLimitless Health.\" This week's panel discussion incl
	udes ChrisCuomo\, award-winning broadcast journalist and host of thepod
	casts \"CUOMO\" and \"The Chris Cuomo Project\"\; and MaryKatharine Ham
	\, Fox News contributor and host of thepodcast \"Getting Hammered.\"
DTSTART:20241116T030000Z
DTEND:20241116T040000Z
END:VEVENT
END:VCALENDAR
