BEGIN:VCALENDAR
VERSION:2.0
PRODID:-//InvisionCommunity Events 4.7.23//EN
METHOD:PUBLISH
CALSCALE:GREGORIAN
REFRESH-INTERVAL:PT15M
X-PUBLISHED-TTL:PT15M
X-WR-CALNAME:At My TV
NAME:At My TV
BEGIN:VTIMEZONE
TZID:Europe/London
TZURL:http://tzurl.org/zoneinfo/Europe/London
X-LIC-LOCATION:Europe/London
BEGIN:DAYLIGHT
TZOFFSETFROM:+0000
TZOFFSETTO:+0100
TZNAME:BST
DTSTART:20240331T020000Z
RRULE:FREQ=YEARLY;BYMONTH=3;BYDAY=-1SU
END:DAYLIGHT
BEGIN:STANDARD
TZOFFSETFROM:+0100
TZOFFSETTO:+0000
TZNAME:GMT
DTSTART:20241027T020000Z
RRULE:FREQ=YEARLY;BYMONTH=10;BYDAY=-1SU
END:STANDARD
END:VTIMEZONE
BEGIN:VEVENT
SUMMARY:The Kelly Clarkson Show 6x44 - Bowen Yang\, Auli'I Cravalho\
	,Will Butler
DTSTAMP:20241123T105519Z
SEQUENCE:0
UID:189066-2-841ebed20eb198c4569419e99b7bf40a@themidnightzone.com
ORGANIZER;CN="Midnight":midnight@themidnightzone.com
DESCRIPTION:Kellyoke: Pink Pony Club (Chappel Roan)/ Bowen Yang/ Auli'IC
	ravalho/ Will Butler (Arcade Fire/ Stereophonic)/ Broadway in6A: Stereopho
	nic Performs \"Masquerade\"/ Bargains and Deals withLawrence Zarian (Morni
	ngSave)/ WIL: Poetry Pharmacy.
DTSTART:20241125T050000Z
DTEND:20241125T060000Z
END:VEVENT
END:VCALENDAR
