BEGIN:VCALENDAR
VERSION:2.0
PRODID:-//InvisionCommunity Events 4.7.23//EN
METHOD:PUBLISH
CALSCALE:GREGORIAN
REFRESH-INTERVAL:PT15M
X-PUBLISHED-TTL:PT15M
X-WR-CALNAME:At My TV
NAME:At My TV
BEGIN:VTIMEZONE
TZID:Europe/London
TZURL:http://tzurl.org/zoneinfo/Europe/London
X-LIC-LOCATION:Europe/London
BEGIN:DAYLIGHT
TZOFFSETFROM:+0000
TZOFFSETTO:+0100
TZNAME:BST
DTSTART:20240331T020000Z
RRULE:FREQ=YEARLY;BYMONTH=3;BYDAY=-1SU
END:DAYLIGHT
BEGIN:STANDARD
TZOFFSETFROM:+0100
TZOFFSETTO:+0000
TZNAME:GMT
DTSTART:20241027T020000Z
RRULE:FREQ=YEARLY;BYMONTH=10;BYDAY=-1SU
END:STANDARD
END:VTIMEZONE
BEGIN:VEVENT
SUMMARY:The Last Leg 31x6 - Lorraine Kelly\, Nabil Abdulrashid\, Sus
	anWokoma
DTSTAMP:20241125T105518Z
SEQUENCE:0
UID:189122-2-841ebed20eb198c4569419e99b7bf40a@themidnightzone.com
ORGANIZER;CN="Midnight":midnight@themidnightzone.com
DESCRIPTION:Adam Hills\, Josh Widdicombe and Alex Brooker are joined byg
	uests Lorraine Kelly\, Nabil Abdulrashid and Susan Wokoma fora comic revie
	w of the significant moments of the past sevendays. As usual\, the hashtag
	 #isitok paves the way for the gangto round up\, examine and explain the l
	eading and mostentertaining news stories of the week.
DTSTART:20241129T220000Z
DTEND:20241129T230500Z
END:VEVENT
END:VCALENDAR
