BEGIN:VCALENDAR
VERSION:2.0
PRODID:-//InvisionCommunity Events 4.7.23//EN
METHOD:PUBLISH
CALSCALE:GREGORIAN
REFRESH-INTERVAL:PT15M
X-PUBLISHED-TTL:PT15M
X-WR-CALNAME:Pogdesign
NAME:Pogdesign
BEGIN:VTIMEZONE
TZID:Europe/London
TZURL:http://tzurl.org/zoneinfo/Europe/London
X-LIC-LOCATION:Europe/London
BEGIN:DAYLIGHT
TZOFFSETFROM:+0000
TZOFFSETTO:+0100
TZNAME:BST
DTSTART:20240331T020000Z
RRULE:FREQ=YEARLY;BYMONTH=3;BYDAY=-1SU
END:DAYLIGHT
BEGIN:STANDARD
TZOFFSETFROM:+0100
TZOFFSETTO:+0000
TZNAME:GMT
DTSTART:20241027T020000Z
RRULE:FREQ=YEARLY;BYMONTH=10;BYDAY=-1SU
END:STANDARD
END:VTIMEZONE
BEGIN:VEVENT
SUMMARY:The Tonight Show [Fallon] S12E33 - \nKaley Cuoco\, RickieFow
	ler\, Xander Schauffele\, Matt Fitzpatrick\, Cameron Young\,GloRilla &amp\
	; T-Pain
DTSTAMP:20241126T145702Z
SEQUENCE:0
UID:189162-3-841ebed20eb198c4569419e99b7bf40a@themidnightzone.com
ORGANIZER;CN="Midnight":midnight@themidnightzone.com
DESCRIPTION:Jimmy welcomes actress Kaley Cuoco\, professional golfersRic
	kie Fowler\, Xander Schauffele\, Matt Fitzpatrick &amp\;Cameron Young\, an
	d a musical performance by GloRilla &amp\;T-Pain.
DTSTART:20241125T233500Z
DTEND:20241126T003500Z
END:VEVENT
END:VCALENDAR
