BEGIN:VCALENDAR
VERSION:2.0
PRODID:-//InvisionCommunity Events 4.7.23//EN
METHOD:PUBLISH
CALSCALE:GREGORIAN
REFRESH-INTERVAL:PT15M
X-PUBLISHED-TTL:PT15M
X-WR-CALNAME:At My TV
NAME:At My TV
BEGIN:VTIMEZONE
TZID:Europe/London
TZURL:http://tzurl.org/zoneinfo/Europe/London
X-LIC-LOCATION:Europe/London
BEGIN:DAYLIGHT
TZOFFSETFROM:+0000
TZOFFSETTO:+0100
TZNAME:BST
DTSTART:20240331T020000Z
RRULE:FREQ=YEARLY;BYMONTH=3;BYDAY=-1SU
END:DAYLIGHT
BEGIN:STANDARD
TZOFFSETFROM:+0100
TZOFFSETTO:+0000
TZNAME:GMT
DTSTART:20241027T020000Z
RRULE:FREQ=YEARLY;BYMONTH=10;BYDAY=-1SU
END:STANDARD
END:VTIMEZONE
BEGIN:VEVENT
SUMMARY:Tamron Hall 6x61 - Like\, Share\, Forward
DTSTAMP:20241128T105518Z
SEQUENCE:0
UID:189229-2-841ebed20eb198c4569419e99b7bf40a@themidnightzone.com
ORGANIZER;CN="Midnight":midnight@themidnightzone.com
DESCRIPTION:Like\, Share\, Forward: Today\, inspirational people areupli
	fting everyone with the incredible things they are doing.Actor and \"Diff'
	rent Strokes\" star Todd Bridges and his wife\,Bettijo\, join the Tam Fam 
	for raw\, candid chats about life'smessy realities and their new podcast\,
	 \"Dang.\" Viral TikTokstar Oliver James discusses learning to read in his
	 30s andreveals a huge step in his journey exclusively for the Tam Fam.Giv
	en only five years to live after a brain cancer diagnosis atage 31\, Iain 
	Ward shares why he's spending his last yearstrying to break a world record
	 for charity donations. And LeeKim shares the reason behind her daily ritu
	al of making pipecleaner crowns for total strangers.
DTSTART:20241204T050000Z
DTEND:20241204T060000Z
END:VEVENT
END:VCALENDAR
