BEGIN:VCALENDAR
VERSION:2.0
PRODID:-//InvisionCommunity Events 4.7.23//EN
METHOD:PUBLISH
CALSCALE:GREGORIAN
REFRESH-INTERVAL:PT15M
X-PUBLISHED-TTL:PT15M
X-WR-CALNAME:At My TV
NAME:At My TV
BEGIN:VTIMEZONE
TZID:Europe/London
TZURL:http://tzurl.org/zoneinfo/Europe/London
X-LIC-LOCATION:Europe/London
BEGIN:DAYLIGHT
TZOFFSETFROM:+0000
TZOFFSETTO:+0100
TZNAME:BST
DTSTART:20240331T020000Z
RRULE:FREQ=YEARLY;BYMONTH=3;BYDAY=-1SU
END:DAYLIGHT
BEGIN:STANDARD
TZOFFSETFROM:+0100
TZOFFSETTO:+0000
TZNAME:GMT
DTSTART:20241027T020000Z
RRULE:FREQ=YEARLY;BYMONTH=10;BYDAY=-1SU
END:STANDARD
END:VTIMEZONE
BEGIN:VEVENT
SUMMARY:The Drew Barrymore Show 5x60 - Taye Diggs\, Oliver Hudson\,S
	unny Anderson\, Alexandra Breckenridge\, Ben Mims
DTSTAMP:20241201T105516Z
SEQUENCE:0
UID:189324-2-841ebed20eb198c4569419e99b7bf40a@themidnightzone.com
ORGANIZER;CN="Midnight":midnight@themidnightzone.com
DESCRIPTION:Taye Diggs\, Oliver Hudson and relationship expert DamonaHof
	fman answer the audience's questions about love andrelationships.Drew and 
	Pilar Valdes compete against ValerieBertinelli and Ross Mathews at baking 
	cookies\; Taye Diggs\,Oliver Hudson and Ben Mims judge which cookie is the
	 best\;host Sunny Anderson\; Alexandra Breckenridge (\"Virgin River\").
DTSTART:20241204T050000Z
DTEND:20241204T060000Z
END:VEVENT
END:VCALENDAR
