BEGIN:VCALENDAR
VERSION:2.0
PRODID:-//InvisionCommunity Events 4.7.23//EN
METHOD:PUBLISH
CALSCALE:GREGORIAN
REFRESH-INTERVAL:PT15M
X-PUBLISHED-TTL:PT15M
X-WR-CALNAME:Pogdesign
NAME:Pogdesign
BEGIN:VTIMEZONE
TZID:Europe/London
TZURL:http://tzurl.org/zoneinfo/Europe/London
X-LIC-LOCATION:Europe/London
BEGIN:DAYLIGHT
TZOFFSETFROM:+0000
TZOFFSETTO:+0100
TZNAME:BST
DTSTART:20250330T020000Z
RRULE:FREQ=YEARLY;BYMONTH=3;BYDAY=-1SU
END:DAYLIGHT
BEGIN:STANDARD
TZOFFSETFROM:+0100
TZOFFSETTO:+0000
TZNAME:GMT
DTSTART:20251026T020000Z
RRULE:FREQ=YEARLY;BYMONTH=10;BYDAY=-1SU
END:STANDARD
END:VTIMEZONE
BEGIN:VEVENT
SUMMARY:Chicago Fire S13E11 - \nIn the Trenches (1)
DTSTAMP:20250109T065702Z
SEQUENCE:0
UID:190651-3-841ebed20eb198c4569419e99b7bf40a@themidnightzone.com
ORGANIZER;CN="Midnight":midnight@themidnightzone.com
DESCRIPTION:Chicago':s first responders unite in the wake of acatastroph
	ic gas explosion and fire that threaten a citygovernment building. Herrman
	n reluctantly shadows Pascal whileViolet\, Novak and Dr. Frost take charge
	 of triage efforts onsite.The crossover continues on Chicago Med S10E11 In
	 theTrenches (II) and Chicago P.D. S12E11 In the Trenches (III).
DTSTART:20250129T200000Z
DTEND:20250129T210000Z
END:VEVENT
END:VCALENDAR
