BEGIN:VCALENDAR
VERSION:2.0
PRODID:-//InvisionCommunity Events 4.7.23//EN
METHOD:PUBLISH
CALSCALE:GREGORIAN
REFRESH-INTERVAL:PT15M
X-PUBLISHED-TTL:PT15M
X-WR-CALNAME:Pogdesign
NAME:Pogdesign
BEGIN:VTIMEZONE
TZID:Europe/London
TZURL:http://tzurl.org/zoneinfo/Europe/London
X-LIC-LOCATION:Europe/London
BEGIN:DAYLIGHT
TZOFFSETFROM:+0000
TZOFFSETTO:+0100
TZNAME:BST
DTSTART:20250330T020000Z
RRULE:FREQ=YEARLY;BYMONTH=3;BYDAY=-1SU
END:DAYLIGHT
BEGIN:STANDARD
TZOFFSETFROM:+0100
TZOFFSETTO:+0000
TZNAME:GMT
DTSTART:20251026T020000Z
RRULE:FREQ=YEARLY;BYMONTH=10;BYDAY=-1SU
END:STANDARD
END:VTIMEZONE
BEGIN:VEVENT
SUMMARY:Guy's Grocery Games S38E04 - \nGame Day Bite Fight
DTSTAMP:20250116T065703Z
SEQUENCE:0
UID:191020-3-841ebed20eb198c4569419e99b7bf40a@themidnightzone.com
ORGANIZER;CN="Midnight":midnight@themidnightzone.com
DESCRIPTION:Guy Fieri divides six acclaimed chefs into teams of three to
	compete in a game day food battle fought relay-style in10-minute shifts. T
	he first chefs shop for a game day feastwhose components satisfy three des
	criptive words selected in agame day draft pick. After each shift\, the ch
	efs enter a giant\"ice box\" that prevents them from talking toteammates\,
	 but Guy gives each chef a chance to communicatenon-verbally by holding up
	 big letters and acting out charades.Ultimately\, the team that creates th
	e best and most accurategame day plate will go on a relay shopping spree w
	orth up to\,000!
DTSTART:20250129T210000Z
DTEND:20250129T213000Z
END:VEVENT
END:VCALENDAR
