BEGIN:VCALENDAR
VERSION:2.0
PRODID:-//InvisionCommunity Events 4.7.23//EN
METHOD:PUBLISH
CALSCALE:GREGORIAN
REFRESH-INTERVAL:PT15M
X-PUBLISHED-TTL:PT15M
X-WR-CALNAME:At My TV
NAME:At My TV
BEGIN:VTIMEZONE
TZID:Europe/London
TZURL:http://tzurl.org/zoneinfo/Europe/London
X-LIC-LOCATION:Europe/London
BEGIN:DAYLIGHT
TZOFFSETFROM:+0000
TZOFFSETTO:+0100
TZNAME:BST
DTSTART:20250330T020000Z
RRULE:FREQ=YEARLY;BYMONTH=3;BYDAY=-1SU
END:DAYLIGHT
BEGIN:STANDARD
TZOFFSETFROM:+0100
TZOFFSETTO:+0000
TZNAME:GMT
DTSTART:20251026T020000Z
RRULE:FREQ=YEARLY;BYMONTH=10;BYDAY=-1SU
END:STANDARD
END:VTIMEZONE
BEGIN:VEVENT
SUMMARY:Travel Man: 48 Hours in... 13x4 - Malmö
DTSTAMP:20250117T105508Z
SEQUENCE:0
UID:191086-2-841ebed20eb198c4569419e99b7bf40a@themidnightzone.com
ORGANIZER;CN="Midnight":midnight@themidnightzone.com
DESCRIPTION:The new run concludes\, as Joe Lycett packs his suitcase for
	another mini-break and shows willing celebrity guest RoseMatafeo how to ge
	t the most out of a weekend away\, with afun-packed\, 48-hour itinerary of
	 trademark humour and facts inSweden's third city\, Malmö. Their journey 
	starts on theengineering marvel and Scandi noir thriller star the OresundB
	ridge\, which links Denmark to Sweden. After checking intotheir circus-the
	med hotel\, Joe and Rose make use of thecomplimentary bikes to discover th
	e city. At the canal\, theyhop on a self-driven electric boat for a sights
	eeing tour thatincludes The Turning Torso: the world's first twisting towe
	r\,which was once the tallest building in Scandinavia. They headto The Dis
	gusting Food Museum where the tickets double as sickbags and they sample s
	ome of the world's most disgusting food\,challenging the notion of what is
	 and isn't edible. Menuhighlights include a traditional Sardinian cheese\,
	 a selectionof insects and Chinese delicacy 'Century Eggs'\, all washeddow
	n with a Swedish spirit made from beaver anal glands. For amore appetising
	 Swedish food experience\, on day two Joe andRose enrol on a walking food 
	tour\, where they discover thatMalmö is Sweden's falafel capital\, embrac
	e the country's loveof fish and check out a local brewing company. Then it
	's off tothe 19th-century splendour of the Ribersborg Kallbadhus for asaun
	a followed by an icy dip in a seawater pool. Feelinginvigorated\, they hot
	foot it to Folkets park for a round ofMalmö-themed mini golf as they take
	 in the tiny landmarks andreflect on their trip.
DTSTART:20250131T203000Z
DTEND:20250131T210000Z
END:VEVENT
END:VCALENDAR
