BEGIN:VCALENDAR
VERSION:2.0
PRODID:-//InvisionCommunity Events 4.7.23//EN
METHOD:PUBLISH
CALSCALE:GREGORIAN
REFRESH-INTERVAL:PT15M
X-PUBLISHED-TTL:PT15M
X-WR-CALNAME:At My TV
NAME:At My TV
BEGIN:VTIMEZONE
TZID:Europe/London
TZURL:http://tzurl.org/zoneinfo/Europe/London
X-LIC-LOCATION:Europe/London
BEGIN:DAYLIGHT
TZOFFSETFROM:+0000
TZOFFSETTO:+0100
TZNAME:BST
DTSTART:20250330T020000Z
RRULE:FREQ=YEARLY;BYMONTH=3;BYDAY=-1SU
END:DAYLIGHT
BEGIN:STANDARD
TZOFFSETFROM:+0100
TZOFFSETTO:+0000
TZNAME:GMT
DTSTART:20251026T020000Z
RRULE:FREQ=YEARLY;BYMONTH=10;BYDAY=-1SU
END:STANDARD
END:VTIMEZONE
BEGIN:VEVENT
SUMMARY:Super Bowl's Greatest Commercials 25x1 - 2025: LIX - Funnies
	tof All-Time
DTSTAMP:20250123T105459Z
SEQUENCE:0
UID:191367-2-841ebed20eb198c4569419e99b7bf40a@themidnightzone.com
ORGANIZER;CN="Midnight":midnight@themidnightzone.com
DESCRIPTION:Super Bowl Greatest Commercials: Funniest of All-Time willfe
	ature iconic commercials\, including the E*TRADE Babies\, theCareerBuilder
	 monkeys\, Budweiser's Lamb Streaker\, Mt. Dew'sPuppyMonkeyBaby and many o
	ther hilariously memorable Super Bowlcommercials. Kevin Frazier\, co-host 
	of ENTERTAINMENT TONIGHT\,returns as sideline contributor to provide exclu
	sivebehind-the-scenes looks and sneak peeks of 2025 super spots\,including
	 a celebration of the 25th anniversary of theBudweiser Whassup campaign. 
DTSTART:20250206T020000Z
DTEND:20250206T030000Z
END:VEVENT
END:VCALENDAR
