BEGIN:VCALENDAR
VERSION:2.0
PRODID:-//InvisionCommunity Events 4.7.23//EN
METHOD:PUBLISH
CALSCALE:GREGORIAN
REFRESH-INTERVAL:PT15M
X-PUBLISHED-TTL:PT15M
X-WR-CALNAME:At My TV
NAME:At My TV
BEGIN:VTIMEZONE
TZID:Europe/London
TZURL:http://tzurl.org/zoneinfo/Europe/London
X-LIC-LOCATION:Europe/London
BEGIN:DAYLIGHT
TZOFFSETFROM:+0000
TZOFFSETTO:+0100
TZNAME:BST
DTSTART:20250330T020000Z
RRULE:FREQ=YEARLY;BYMONTH=3;BYDAY=-1SU
END:DAYLIGHT
BEGIN:STANDARD
TZOFFSETFROM:+0100
TZOFFSETTO:+0000
TZNAME:GMT
DTSTART:20251026T020000Z
RRULE:FREQ=YEARLY;BYMONTH=10;BYDAY=-1SU
END:STANDARD
END:VTIMEZONE
BEGIN:VEVENT
SUMMARY:Tamron Hall 6x88 - Behind the Brand
DTSTAMP:20250125T105459Z
SEQUENCE:0
UID:191495-2-841ebed20eb198c4569419e99b7bf40a@themidnightzone.com
ORGANIZER;CN="Midnight":midnight@themidnightzone.com
DESCRIPTION:An EXCLUSIVE conversation with 10x NBA All-Star CARMELO ANTH
	ONYon life after the NBA\, his son following in his basketballfootsteps\, 
	and becoming a wine entrepreneur. He's joined byhis business partner\, ASA
	NI SWANN\, to discuss breakingbarriers in the wine industry. Then\, the La
	tina princess ofR&amp\;B\, LISA \"LISA LISA\" VELEZ\, and her best friend\
	, TONIMÉNAGE\, come on the show for an EXCLUSIVE sit-downsurrounding thei
	r new Lifetime biopic\, \"Can You Feel The Beat:The Lisa Lisa Story.\" We'
	re also joined by the film's stars\,JEARNEST CORCHADO and BRE-Z. Plus\, fo
	ur-time EMMYAward-winning TV journalist MARA S. CAMPO stops by the show to
	chat about how her passion for hair helped her become a socialmedia phenom
	enon. Proving why she's called the \"Hair Houdini\,\"Mara shows the Tam Fa
	m three of her most viral hair hacks.
DTSTART:20250131T050000Z
DTEND:20250131T060000Z
END:VEVENT
END:VCALENDAR
