BEGIN:VCALENDAR
VERSION:2.0
PRODID:-//InvisionCommunity Events 4.7.23//EN
METHOD:PUBLISH
CALSCALE:GREGORIAN
REFRESH-INTERVAL:PT15M
X-PUBLISHED-TTL:PT15M
X-WR-CALNAME:At My TV
NAME:At My TV
BEGIN:VTIMEZONE
TZID:Europe/London
TZURL:http://tzurl.org/zoneinfo/Europe/London
X-LIC-LOCATION:Europe/London
BEGIN:DAYLIGHT
TZOFFSETFROM:+0000
TZOFFSETTO:+0100
TZNAME:BST
DTSTART:20250330T020000Z
RRULE:FREQ=YEARLY;BYMONTH=3;BYDAY=-1SU
END:DAYLIGHT
BEGIN:STANDARD
TZOFFSETFROM:+0100
TZOFFSETTO:+0000
TZNAME:GMT
DTSTART:20251026T020000Z
RRULE:FREQ=YEARLY;BYMONTH=10;BYDAY=-1SU
END:STANDARD
END:VTIMEZONE
BEGIN:VEVENT
SUMMARY:Tamron Hall 6x87 - Catching Up with People We Love
DTSTAMP:20250125T105459Z
SEQUENCE:0
UID:191502-2-841ebed20eb198c4569419e99b7bf40a@themidnightzone.com
ORGANIZER;CN="Midnight":midnight@themidnightzone.com
DESCRIPTION:First\, EMMY® Award-winning TV personality and multimediasu
	perstar TS MADISON returns to the show to chat about the newseason of \"Ru
	Paul's Drag Race\" and address the dating rumors.Then\, legendary Hollywoo
	d fashion designer BOB MACKIE\, whodesigned showstopping looks for Cher\, 
	Madonna\, Tina Turnerand more\, discusses his new documentary\, \"Bob Mack
	ie: NakedIllusion.\" Later\, we welcome a Detroit couple who purchasedAret
	ha Franklin's home and invested millions of dollars inrestoring it as a lo
	ve letter to the music icon. Plus\, wecatch up with newlyweds TREVOR FARRO
	W and SHYLAH MAY\, whoofficially tied the knot after their last visit to t
	he Tam Famin a dream wedding in Tuscany.
DTSTART:20250130T050000Z
DTEND:20250130T060000Z
END:VEVENT
END:VCALENDAR
