BEGIN:VCALENDAR
VERSION:2.0
PRODID:-//InvisionCommunity Events 4.7.23//EN
METHOD:PUBLISH
CALSCALE:GREGORIAN
REFRESH-INTERVAL:PT15M
X-PUBLISHED-TTL:PT15M
X-WR-CALNAME:At My TV
NAME:At My TV
BEGIN:VTIMEZONE
TZID:Europe/London
TZURL:http://tzurl.org/zoneinfo/Europe/London
X-LIC-LOCATION:Europe/London
BEGIN:DAYLIGHT
TZOFFSETFROM:+0000
TZOFFSETTO:+0100
TZNAME:BST
DTSTART:20250330T020000Z
RRULE:FREQ=YEARLY;BYMONTH=3;BYDAY=-1SU
END:DAYLIGHT
BEGIN:STANDARD
TZOFFSETFROM:+0100
TZOFFSETTO:+0000
TZNAME:GMT
DTSTART:20251026T020000Z
RRULE:FREQ=YEARLY;BYMONTH=10;BYDAY=-1SU
END:STANDARD
END:VTIMEZONE
BEGIN:VEVENT
SUMMARY:Tamron Hall 6x85 - Do It for the Plot
DTSTAMP:20250125T105459Z
SEQUENCE:0
UID:191517-2-841ebed20eb198c4569419e99b7bf40a@themidnightzone.com
ORGANIZER;CN="Midnight":midnight@themidnightzone.com
DESCRIPTION:An EXCLUSIVE sit-down with \"The Real Housewives of BeverlyH
	ills\" star BOZOMA SAINT JOHN\, who tragically lost her home inthe Los Ang
	eles wildfires. Then\, social media star SERENAKERRIGAN chats about how sh
	e inspired the \"Do It For The Plot\"movement and manifested her boyfriend
	. And the can't-missmoment that had all of us fooled! Later\, newlyweds wh
	o wentviral after taking to TikTok to track down two wedding crashersjoin 
	us along with their uninvited guests! Plus\, an all-newShop Tam Fam.
DTSTART:20250128T050000Z
DTEND:20250128T060000Z
END:VEVENT
END:VCALENDAR
