BEGIN:VCALENDAR
VERSION:2.0
PRODID:-//InvisionCommunity Events 4.7.23//EN
METHOD:PUBLISH
CALSCALE:GREGORIAN
REFRESH-INTERVAL:PT15M
X-PUBLISHED-TTL:PT15M
X-WR-CALNAME:At My TV
NAME:At My TV
BEGIN:VTIMEZONE
TZID:Europe/London
TZURL:http://tzurl.org/zoneinfo/Europe/London
X-LIC-LOCATION:Europe/London
BEGIN:DAYLIGHT
TZOFFSETFROM:+0000
TZOFFSETTO:+0100
TZNAME:BST
DTSTART:20250330T020000Z
RRULE:FREQ=YEARLY;BYMONTH=3;BYDAY=-1SU
END:DAYLIGHT
BEGIN:STANDARD
TZOFFSETFROM:+0100
TZOFFSETTO:+0000
TZNAME:GMT
DTSTART:20251026T020000Z
RRULE:FREQ=YEARLY;BYMONTH=10;BYDAY=-1SU
END:STANDARD
END:VTIMEZONE
BEGIN:VEVENT
SUMMARY:Guy's Grocery Games 38x7 - Ultimate City Food Fight
DTSTAMP:20250206T105455Z
SEQUENCE:0
UID:192081-2-841ebed20eb198c4569419e99b7bf40a@themidnightzone.com
ORGANIZER;CN="Midnight":midnight@themidnightzone.com
DESCRIPTION:The winners of the first two City Food Fights return to prov
	eonce and for all which is the best food city in the country.Playing games
	 inspired by their city's legendary basketballteams\, Guy Fieri challenges
	 the teams to prepare three winningcourses. First\, the chefs have 24 minu
	tes to make one of theircity's signature sandwiches\, but they'll be dribb
	ling abasketball while shopping. Then in the second half\, the chefsmust m
	ake a winner's dinner and dessert that feature the whammyingredients chose
	n by the hoops. The team with the highestcombined score wins an additional
	 \,000 and the GGG CityFood Fight champion trophy!
DTSTART:20250220T020000Z
DTEND:20250220T030000Z
END:VEVENT
END:VCALENDAR
