BEGIN:VCALENDAR
VERSION:2.0
PRODID:-//InvisionCommunity Events 4.7.23//EN
METHOD:PUBLISH
CALSCALE:GREGORIAN
REFRESH-INTERVAL:PT15M
X-PUBLISHED-TTL:PT15M
X-WR-CALNAME:At My TV
NAME:At My TV
BEGIN:VTIMEZONE
TZID:Europe/London
TZURL:http://tzurl.org/zoneinfo/Europe/London
X-LIC-LOCATION:Europe/London
BEGIN:DAYLIGHT
TZOFFSETFROM:+0000
TZOFFSETTO:+0100
TZNAME:BST
DTSTART:20250330T020000Z
RRULE:FREQ=YEARLY;BYMONTH=3;BYDAY=-1SU
END:DAYLIGHT
BEGIN:STANDARD
TZOFFSETFROM:+0100
TZOFFSETTO:+0000
TZNAME:GMT
DTSTART:20251026T020000Z
RRULE:FREQ=YEARLY;BYMONTH=10;BYDAY=-1SU
END:STANDARD
END:VTIMEZONE
BEGIN:VEVENT
SUMMARY:Tamron Hall 6x101 - Behind the Viral Video
DTSTAMP:20250216T105452Z
SEQUENCE:0
UID:192622-2-841ebed20eb198c4569419e99b7bf40a@themidnightzone.com
ORGANIZER;CN="Midnight":midnight@themidnightzone.com
DESCRIPTION:The surprising and heartfelt stories behind viral videos peo
	pleof which can't get enough! GRAMMY® Award-winning artist TEEDRAMOSES we
	nt viral for her NPR \"Tiny Desk\" concert. Now\, she'sgiving the Tam Fam 
	a DAYTIME EXCLUSIVE performance of her hit\"Be Your Girl.\" Plus\, how a m
	om reunited with the son she gaveup for adoption with a chance encounter a
	t Walmart. Then\, aman jumps out of the car to rescue a dog from an icy st
	ream -the amazing reunion with its owner. And a content creator wentviral 
	for her food reviews\, then found out it was againstcompany policy. What h
	appened next?
DTSTART:20250219T050000Z
DTEND:20250219T060000Z
END:VEVENT
END:VCALENDAR
