BEGIN:VCALENDAR
VERSION:2.0
PRODID:-//InvisionCommunity Events 4.7.23//EN
METHOD:PUBLISH
CALSCALE:GREGORIAN
REFRESH-INTERVAL:PT15M
X-PUBLISHED-TTL:PT15M
X-WR-CALNAME:Pogdesign
NAME:Pogdesign
BEGIN:VTIMEZONE
TZID:Europe/London
TZURL:http://tzurl.org/zoneinfo/Europe/London
X-LIC-LOCATION:Europe/London
BEGIN:DAYLIGHT
TZOFFSETFROM:+0000
TZOFFSETTO:+0100
TZNAME:BST
DTSTART:20250330T020000Z
RRULE:FREQ=YEARLY;BYMONTH=3;BYDAY=-1SU
END:DAYLIGHT
BEGIN:STANDARD
TZOFFSETFROM:+0100
TZOFFSETTO:+0000
TZNAME:GMT
DTSTART:20251026T020000Z
RRULE:FREQ=YEARLY;BYMONTH=10;BYDAY=-1SU
END:STANDARD
END:VTIMEZONE
BEGIN:VEVENT
SUMMARY:Ancient Aliens S19E04 - \nThe Top Ten Unexplained Technologi
	es
DTSTAMP:20250221T145702Z
SEQUENCE:0
UID:192871-3-841ebed20eb198c4569419e99b7bf40a@themidnightzone.com
ORGANIZER;CN="Midnight":midnight@themidnightzone.com
DESCRIPTION:Ancient Aliens is counting down ten of the most astonishing 
	-and unexplainable - technologies in history. From mysteriousgolden orbs d
	iscovered in Mexico\, to a sacred wooden box thatcould communicate with th
	e heavens\, and an ancient tomb thatis said to depict an astronaut\, might
	 these sensationalartifacts be evidence of otherworldly contact?
DTSTART:20250228T210000Z
DTEND:20250228T220000Z
END:VEVENT
END:VCALENDAR
