BEGIN:VCALENDAR
VERSION:2.0
PRODID:-//InvisionCommunity Events 4.7.23//EN
METHOD:PUBLISH
CALSCALE:GREGORIAN
REFRESH-INTERVAL:PT15M
X-PUBLISHED-TTL:PT15M
X-WR-CALNAME:At My TV
NAME:At My TV
BEGIN:VTIMEZONE
TZID:Europe/London
TZURL:http://tzurl.org/zoneinfo/Europe/London
X-LIC-LOCATION:Europe/London
BEGIN:DAYLIGHT
TZOFFSETFROM:+0000
TZOFFSETTO:+0100
TZNAME:BST
DTSTART:20250330T020000Z
RRULE:FREQ=YEARLY;BYMONTH=3;BYDAY=-1SU
END:DAYLIGHT
BEGIN:STANDARD
TZOFFSETFROM:+0100
TZOFFSETTO:+0000
TZNAME:GMT
DTSTART:20251026T020000Z
RRULE:FREQ=YEARLY;BYMONTH=10;BYDAY=-1SU
END:STANDARD
END:VTIMEZONE
BEGIN:VEVENT
SUMMARY:Naked And Afraid 18x1 - No Legs\, No Problem
DTSTAMP:20250224T105449Z
SEQUENCE:0
UID:192990-2-841ebed20eb198c4569419e99b7bf40a@themidnightzone.com
ORGANIZER;CN="Midnight":midnight@themidnightzone.com
DESCRIPTION:The season kicks off with remarkable and inspiringsurvivalis
	t\, Mandy\, the first double amputee featured onNaked and Afraid. After lo
	sing her legs a decade ago in adevastating and tragic incident\, Mandy set
	 out to motivateothers and prove that there is life after the unimaginable
	happens. She became the first female bilateral amputee to reachthe summit 
	of Mount Kilimanjaro and is now ready to takeon the Everest of survival c
	hallenges – 21 days in theremote jungle and dense rainforest of Belize. 
	Mandy\, alongsideher partner\, Jonny\, will battle heavy rains\, swarms of
	mosquitos\, and toxic plants all in a bid to demonstrate thatno challenge 
	is too formidable to conquer. 
DTSTART:20250310T000000Z
DTEND:20250310T020000Z
END:VEVENT
END:VCALENDAR
