BEGIN:VCALENDAR
VERSION:2.0
PRODID:-//InvisionCommunity Events 4.7.23//EN
METHOD:PUBLISH
CALSCALE:GREGORIAN
REFRESH-INTERVAL:PT15M
X-PUBLISHED-TTL:PT15M
X-WR-CALNAME:Pogdesign
NAME:Pogdesign
BEGIN:VTIMEZONE
TZID:Europe/London
TZURL:http://tzurl.org/zoneinfo/Europe/London
X-LIC-LOCATION:Europe/London
BEGIN:DAYLIGHT
TZOFFSETFROM:+0000
TZOFFSETTO:+0100
TZNAME:BST
DTSTART:20250330T020000Z
RRULE:FREQ=YEARLY;BYMONTH=3;BYDAY=-1SU
END:DAYLIGHT
BEGIN:STANDARD
TZOFFSETFROM:+0100
TZOFFSETTO:+0000
TZNAME:GMT
DTSTART:20251026T020000Z
RRULE:FREQ=YEARLY;BYMONTH=10;BYDAY=-1SU
END:STANDARD
END:VTIMEZONE
BEGIN:VEVENT
SUMMARY:Su Majestad S01E03 - \nGuillotine
DTSTAMP:20250227T145702Z
SEQUENCE:0
UID:193195-3-841ebed20eb198c4569419e99b7bf40a@themidnightzone.com
ORGANIZER;CN="Midnight":midnight@themidnightzone.com
DESCRIPTION:Pilar and Guillermo work out a deal with a public university
	 sothe Princess will be awarded the title of \"DistinguishedAlumni\". It's
	 a delicate matter because shedidn't even study there\, but the goal is fo
	r Pilar toearn the favour of the public opinion. The event has beenmeticul
	ously planned\, but there's one thing that neitherGuillermo nor Pilar had 
	prepared for.
DTSTART:20250301T235900Z
DTEND:20250302T005900Z
END:VEVENT
END:VCALENDAR
