BEGIN:VCALENDAR
VERSION:2.0
PRODID:-//InvisionCommunity Events 4.7.23//EN
METHOD:PUBLISH
CALSCALE:GREGORIAN
REFRESH-INTERVAL:PT15M
X-PUBLISHED-TTL:PT15M
X-WR-CALNAME:At My TV
NAME:At My TV
BEGIN:VTIMEZONE
TZID:Europe/London
TZURL:http://tzurl.org/zoneinfo/Europe/London
X-LIC-LOCATION:Europe/London
BEGIN:DAYLIGHT
TZOFFSETFROM:+0000
TZOFFSETTO:+0100
TZNAME:BST
DTSTART:20250330T020000Z
RRULE:FREQ=YEARLY;BYMONTH=3;BYDAY=-1SU
END:DAYLIGHT
BEGIN:STANDARD
TZOFFSETFROM:+0100
TZOFFSETTO:+0000
TZNAME:GMT
DTSTART:20251026T020000Z
RRULE:FREQ=YEARLY;BYMONTH=10;BYDAY=-1SU
END:STANDARD
END:VTIMEZONE
BEGIN:VEVENT
SUMMARY:Real Time with Bill Maher 23x7 - David Sedaris\, Jon Tester\
	,Alyssa Farah Griffin
DTSTAMP:20250228T105449Z
SEQUENCE:0
UID:193252-2-841ebed20eb198c4569419e99b7bf40a@themidnightzone.com
ORGANIZER;CN="Midnight":midnight@themidnightzone.com
DESCRIPTION:This week features a one-on-one interview with David Sedaris
	\,best-selling author and humorist who will begin a 40-city touracross the
	 U.S. on March 30. This week's panel discussionincludes Jon Tester\, for
	mer Democratic senator fromMontana\; and Alyssa Farah Griffin\, former Whi
	te Housecommunications director under President Trump and co-host ofABC's 
	\"The View.\"
DTSTART:20250308T030000Z
DTEND:20250308T040000Z
END:VEVENT
END:VCALENDAR
