BEGIN:VCALENDAR
VERSION:2.0
PRODID:-//InvisionCommunity Events 4.7.23//EN
METHOD:PUBLISH
CALSCALE:GREGORIAN
REFRESH-INTERVAL:PT15M
X-PUBLISHED-TTL:PT15M
X-WR-CALNAME:At My TV
NAME:At My TV
BEGIN:VTIMEZONE
TZID:Europe/London
TZURL:http://tzurl.org/zoneinfo/Europe/London
X-LIC-LOCATION:Europe/London
BEGIN:DAYLIGHT
TZOFFSETFROM:+0000
TZOFFSETTO:+0100
TZNAME:BST
DTSTART:20250330T020000Z
RRULE:FREQ=YEARLY;BYMONTH=3;BYDAY=-1SU
END:DAYLIGHT
BEGIN:STANDARD
TZOFFSETFROM:+0100
TZOFFSETTO:+0000
TZNAME:GMT
DTSTART:20251026T020000Z
RRULE:FREQ=YEARLY;BYMONTH=10;BYDAY=-1SU
END:STANDARD
END:VTIMEZONE
BEGIN:VEVENT
SUMMARY:Traffic Cops 12x31 - Episode 31
DTSTAMP:20250307T105446Z
SEQUENCE:0
UID:193569-2-841ebed20eb198c4569419e99b7bf40a@themidnightzone.com
ORGANIZER;CN="Midnight":midnight@themidnightzone.com
DESCRIPTION:Every year Derbyshire's Traffic Cops deal with over 300life-
	changing and fatal collisions. Many are due to excessivespeed and involve 
	the most vulnerable - the young and theelderly. There's a serious crash in
	volving a young motorcyclistand an elderly pedestrian. Paramedics are on s
	ite but areunable to save the older male. Evidence from witnesses and CCTV
	are examined by the crash investigation team\, leading to thearrest of the
	 biker\, charged on suspicion of causing death bydangerous driving. A youn
	g and inexperienced teenager with aprovisional driving licence collides wi
	th a wall and overturnsher car. Despite the extensive damage\, it's a luck
	y escape andthe young girl is unharmed but faces court action. And officer
	sattend a two car collision between an elderly couple and ayoung man whose
	 car was flipped onto its side when driven intohead on at a junction. 
DTSTART:20250317T200000Z
DTEND:20250317T210000Z
END:VEVENT
END:VCALENDAR
