BEGIN:VCALENDAR
VERSION:2.0
PRODID:-//InvisionCommunity Events 4.7.23//EN
METHOD:PUBLISH
CALSCALE:GREGORIAN
REFRESH-INTERVAL:PT15M
X-PUBLISHED-TTL:PT15M
X-WR-CALNAME:At My TV
NAME:At My TV
BEGIN:VTIMEZONE
TZID:Europe/London
TZURL:http://tzurl.org/zoneinfo/Europe/London
X-LIC-LOCATION:Europe/London
BEGIN:DAYLIGHT
TZOFFSETFROM:+0000
TZOFFSETTO:+0100
TZNAME:BST
DTSTART:20250330T020000Z
RRULE:FREQ=YEARLY;BYMONTH=3;BYDAY=-1SU
END:DAYLIGHT
BEGIN:STANDARD
TZOFFSETFROM:+0100
TZOFFSETTO:+0000
TZNAME:GMT
DTSTART:20251026T020000Z
RRULE:FREQ=YEARLY;BYMONTH=10;BYDAY=-1SU
END:STANDARD
END:VTIMEZONE
BEGIN:VEVENT
SUMMARY:Death In Paradise 14x8 - Episode 8
DTSTAMP:20250315T105449Z
SEQUENCE:0
UID:193963-2-841ebed20eb198c4569419e99b7bf40a@themidnightzone.com
ORGANIZER;CN="Midnight":midnight@themidnightzone.com
DESCRIPTION:Mervin is about to fly home but finds himself at the centre 
	ofa murder investigation when a body is discovered in his shack.As Mervin 
	professes his innocence\, the team can't work out howthe victim ended up i
	nside a locked building with no sign offorced entry. The woman's identity 
	remains elusive until theydiscover she was volunteering at a local turtle 
	conservationcharity\, and suspicion falls on her colleagues. Meanwhile\,Se
	lwyn grapples with his most difficult decision yet when hedelivers some pe
	rsonal news to Mervin that turns everything onits head.
DTSTART:20250328T210000Z
DTEND:20250328T220000Z
END:VEVENT
END:VCALENDAR
