BEGIN:VCALENDAR
VERSION:2.0
PRODID:-//InvisionCommunity Events 4.7.23//EN
METHOD:PUBLISH
CALSCALE:GREGORIAN
REFRESH-INTERVAL:PT15M
X-PUBLISHED-TTL:PT15M
X-WR-CALNAME:At My TV
NAME:At My TV
BEGIN:VTIMEZONE
TZID:Europe/London
TZURL:http://tzurl.org/zoneinfo/Europe/London
X-LIC-LOCATION:Europe/London
BEGIN:DAYLIGHT
TZOFFSETFROM:+0000
TZOFFSETTO:+0100
TZNAME:BST
DTSTART:20250330T020000Z
RRULE:FREQ=YEARLY;BYMONTH=3;BYDAY=-1SU
END:DAYLIGHT
BEGIN:STANDARD
TZOFFSETFROM:+0100
TZOFFSETTO:+0000
TZNAME:GMT
DTSTART:20251026T020000Z
RRULE:FREQ=YEARLY;BYMONTH=10;BYDAY=-1SU
END:STANDARD
END:VTIMEZONE
BEGIN:VEVENT
SUMMARY:Real Time with Bill Maher 23x10 - Gov. Gavin Newsom\, JohnMc
	Whorter\, Rikki Schlott
DTSTAMP:20250316T105443Z
SEQUENCE:0
UID:194024-2-841ebed20eb198c4569419e99b7bf40a@themidnightzone.com
ORGANIZER;CN="Midnight":midnight@themidnightzone.com
DESCRIPTION:This week features a one-on-one interview with Gov. GavinNew
	som\, Democratic governor of California and host of the newpodcast \"This 
	is Gavin Newsom.\" This week's panel discussionincludes John McWhorter\, 
	opinion writer at The New York Timesand author of the new book \"Pronoun T
	rouble: The Story of Us inSeven Little Words\"\; and Rikki Schlott\, colum
	nist at the NewYork Post and co-author of the new book \"The Canceling of
	 theAmerican Mind.\"
DTSTART:20250329T020000Z
DTEND:20250329T030000Z
END:VEVENT
END:VCALENDAR
