BEGIN:VCALENDAR
VERSION:2.0
PRODID:-//InvisionCommunity Events 4.7.23//EN
METHOD:PUBLISH
CALSCALE:GREGORIAN
REFRESH-INTERVAL:PT15M
X-PUBLISHED-TTL:PT15M
X-WR-CALNAME:At My TV
NAME:At My TV
BEGIN:VTIMEZONE
TZID:Europe/London
TZURL:http://tzurl.org/zoneinfo/Europe/London
X-LIC-LOCATION:Europe/London
BEGIN:DAYLIGHT
TZOFFSETFROM:+0000
TZOFFSETTO:+0100
TZNAME:BST
DTSTART:20250330T020000Z
RRULE:FREQ=YEARLY;BYMONTH=3;BYDAY=-1SU
END:DAYLIGHT
BEGIN:STANDARD
TZOFFSETFROM:+0100
TZOFFSETTO:+0000
TZNAME:GMT
DTSTART:20251026T020000Z
RRULE:FREQ=YEARLY;BYMONTH=10;BYDAY=-1SU
END:STANDARD
END:VTIMEZONE
BEGIN:VEVENT
SUMMARY:The Drew Barrymore Show 5x119 - Gal Gadot\, Chet Hanks\, Dan
	nySeo
DTSTAMP:20250317T105442Z
SEQUENCE:0
UID:194079-2-841ebed20eb198c4569419e99b7bf40a@themidnightzone.com
ORGANIZER;CN="Midnight":midnight@themidnightzone.com
DESCRIPTION:Gal Gadot (\"Snow White\") tells Drew about her love for mac
	aroniand cheese\, being a mom to four girls and taking on the roleof the e
	vil queen. Chet Hanks (\"Running Point\") tells Drewabout staying authenti
	c growing up in Hollywood\, being threeyears sober and making his country 
	music debut\; Danny Seo hasa hidden veggies recipe for Drew: decadent fudg
	e bars made witheggplant.
DTSTART:20250318T040000Z
DTEND:20250318T050000Z
END:VEVENT
END:VCALENDAR
