BEGIN:VCALENDAR
VERSION:2.0
PRODID:-//InvisionCommunity Events 4.7.23//EN
METHOD:PUBLISH
CALSCALE:GREGORIAN
REFRESH-INTERVAL:PT15M
X-PUBLISHED-TTL:PT15M
X-WR-CALNAME:At My TV
NAME:At My TV
BEGIN:VTIMEZONE
TZID:Europe/London
TZURL:http://tzurl.org/zoneinfo/Europe/London
X-LIC-LOCATION:Europe/London
BEGIN:DAYLIGHT
TZOFFSETFROM:+0000
TZOFFSETTO:+0100
TZNAME:BST
DTSTART:20250330T020000Z
RRULE:FREQ=YEARLY;BYMONTH=3;BYDAY=-1SU
END:DAYLIGHT
BEGIN:STANDARD
TZOFFSETFROM:+0100
TZOFFSETTO:+0000
TZNAME:GMT
DTSTART:20251026T020000Z
RRULE:FREQ=YEARLY;BYMONTH=10;BYDAY=-1SU
END:STANDARD
END:VTIMEZONE
BEGIN:VEVENT
SUMMARY:The Drew Barrymore Show 5x118 - Paulina Porizkova\, ChrissyT
	eigen\, Jack Quaid
DTSTAMP:20250317T105442Z
SEQUENCE:0
UID:194080-2-841ebed20eb198c4569419e99b7bf40a@themidnightzone.com
ORGANIZER;CN="Midnight":midnight@themidnightzone.com
DESCRIPTION:Drew and Ross Mathews hit the headlines with Chrissy Teigen\
	,talking about the latest viral animal news\; Paulina Porizkova(book \"No 
	Filter\") talks about turning 60\, what she's learnedand why she's choosin
	g to age naturally. Jack Quaid(\"Novocaine\") tells Drew about having a gh
	ost in hisapartment\, starring in the \"Scream\" franchise and surprisingh
	is girlfriend with a mariachi band\; Drew tests his paintolerance by waxin
	g his leg. 
DTSTART:20250317T040000Z
DTEND:20250317T050000Z
END:VEVENT
END:VCALENDAR
