BEGIN:VCALENDAR
VERSION:2.0
PRODID:-//InvisionCommunity Events 4.7.23//EN
METHOD:PUBLISH
CALSCALE:GREGORIAN
REFRESH-INTERVAL:PT15M
X-PUBLISHED-TTL:PT15M
X-WR-CALNAME:At My TV
NAME:At My TV
BEGIN:VTIMEZONE
TZID:Europe/London
TZURL:http://tzurl.org/zoneinfo/Europe/London
X-LIC-LOCATION:Europe/London
BEGIN:DAYLIGHT
TZOFFSETFROM:+0000
TZOFFSETTO:+0100
TZNAME:BST
DTSTART:20250330T020000Z
RRULE:FREQ=YEARLY;BYMONTH=3;BYDAY=-1SU
END:DAYLIGHT
BEGIN:STANDARD
TZOFFSETFROM:+0100
TZOFFSETTO:+0000
TZNAME:GMT
DTSTART:20251026T020000Z
RRULE:FREQ=YEARLY;BYMONTH=10;BYDAY=-1SU
END:STANDARD
END:VTIMEZONE
BEGIN:VEVENT
SUMMARY:iMPACT Wrestling 22x18 - Episode 18
DTSTAMP:20250420T025431Z
SEQUENCE:0
UID:195743-2-841ebed20eb198c4569419e99b7bf40a@themidnightzone.com
ORGANIZER;CN="Midnight":midnight@themidnightzone.com
DESCRIPTION:TNA iMPACT! is LIVE from Irvine\, California as the falloutf
	rom Rebellion begins. TNA World Champion Joe Hendry teams withThe Hardys t
	o battle Frankie Kazarian and new TNA World TagTeam Champions\, The Nemeth
	s. We'll hear from TNA Wrestling'snewest Knockout\, Indi Hartwell. Moose d
	efends the X-DivisionChampionship against Zachary Wentz. Leon Slater takes
	 on KCNavarro. Mike Santana will be in action. Jody Threat goesone-on-one 
	with Maggie Lee. Plus\, TNA International ChampionSteve Maclin.
DTSTART:20250502T020000Z
DTEND:20250502T040000Z
END:VEVENT
END:VCALENDAR
