BEGIN:VCALENDAR
VERSION:2.0
PRODID:-//InvisionCommunity Events 4.7.23//EN
METHOD:PUBLISH
CALSCALE:GREGORIAN
REFRESH-INTERVAL:PT15M
X-PUBLISHED-TTL:PT15M
X-WR-CALNAME:At My TV
NAME:At My TV
BEGIN:VTIMEZONE
TZID:Europe/London
TZURL:http://tzurl.org/zoneinfo/Europe/London
X-LIC-LOCATION:Europe/London
BEGIN:DAYLIGHT
TZOFFSETFROM:+0000
TZOFFSETTO:+0100
TZNAME:BST
DTSTART:20250330T020000Z
RRULE:FREQ=YEARLY;BYMONTH=3;BYDAY=-1SU
END:DAYLIGHT
BEGIN:STANDARD
TZOFFSETFROM:+0100
TZOFFSETTO:+0000
TZNAME:GMT
DTSTART:20251026T020000Z
RRULE:FREQ=YEARLY;BYMONTH=10;BYDAY=-1SU
END:STANDARD
END:VTIMEZONE
BEGIN:VEVENT
SUMMARY:Tamron Hall 6x159 - Lean Into Your Dream
DTSTAMP:20250510T025425Z
SEQUENCE:0
UID:196651-2-841ebed20eb198c4569419e99b7bf40a@themidnightzone.com
ORGANIZER;CN="Midnight":midnight@themidnightzone.com
DESCRIPTION:Our guests today prove that it's possible to reach greatheig
	hts when you dream big. Emmy® Award-winning DEBORAHNORVILLE on leaving \"
	Inside Edition\" and starting the new gameshow \"The Perfect Line.\" And\,
	 trailblazing TV star JUDGEGLENDA HATCHETT inspires us to dream big with h
	er new \"Dare toTake Charge\" daily planner and takes us behind the scenes
	 ofher show \"The Verdict.\"
DTSTART:20250513T040000Z
DTEND:20250513T050000Z
END:VEVENT
END:VCALENDAR
