BEGIN:VCALENDAR
VERSION:2.0
PRODID:-//InvisionCommunity Events 4.7.23//EN
METHOD:PUBLISH
CALSCALE:GREGORIAN
REFRESH-INTERVAL:PT15M
X-PUBLISHED-TTL:PT15M
X-WR-CALNAME:At My TV
NAME:At My TV
BEGIN:VTIMEZONE
TZID:Europe/London
TZURL:http://tzurl.org/zoneinfo/Europe/London
X-LIC-LOCATION:Europe/London
BEGIN:DAYLIGHT
TZOFFSETFROM:+0000
TZOFFSETTO:+0100
TZNAME:BST
DTSTART:20250330T020000Z
RRULE:FREQ=YEARLY;BYMONTH=3;BYDAY=-1SU
END:DAYLIGHT
BEGIN:STANDARD
TZOFFSETFROM:+0100
TZOFFSETTO:+0000
TZNAME:GMT
DTSTART:20251026T020000Z
RRULE:FREQ=YEARLY;BYMONTH=10;BYDAY=-1SU
END:STANDARD
END:VTIMEZONE
BEGIN:VEVENT
SUMMARY:BBQ Brawl: Flay V. Symon 6x8 - Into the Fire!
DTSTAMP:20250630T062307Z
SEQUENCE:0
UID:197443-2-841ebed20eb198c4569419e99b7bf40a@themidnightzone.com
ORGANIZER;CN="Midnight":midnight@themidnightzone.com
DESCRIPTION:It's time for another live-fire showdown and one of thetough
	est\, smokiest and hottest challenges yet! In theadvantage challenge\, tea
	m captains Bobby Flay\, Maneet Chauhanand Antonia Lofaso go primal\, cooki
	ng dishes straight in thecoals. Then\, the Brawlers craft massive\, meaty 
	rib feasts onArgentinian asado iron crosses for the team brawl.
DTSTART:20250714T010000Z
DTEND:20250714T020000Z
END:VEVENT
END:VCALENDAR
