BEGIN:VCALENDAR
VERSION:2.0
PRODID:-//InvisionCommunity Events 4.7.23//EN
METHOD:PUBLISH
CALSCALE:GREGORIAN
REFRESH-INTERVAL:PT15M
X-PUBLISHED-TTL:PT15M
X-WR-CALNAME:Pogdesign
NAME:Pogdesign
BEGIN:VTIMEZONE
TZID:Europe/London
TZURL:http://tzurl.org/zoneinfo/Europe/London
X-LIC-LOCATION:Europe/London
BEGIN:DAYLIGHT
TZOFFSETFROM:+0000
TZOFFSETTO:+0100
TZNAME:BST
DTSTART:20250330T020000Z
RRULE:FREQ=YEARLY;BYMONTH=3;BYDAY=-1SU
END:DAYLIGHT
BEGIN:STANDARD
TZOFFSETFROM:+0100
TZOFFSETTO:+0000
TZNAME:GMT
DTSTART:20251026T020000Z
RRULE:FREQ=YEARLY;BYMONTH=10;BYDAY=-1SU
END:STANDARD
END:VTIMEZONE
BEGIN:VEVENT
SUMMARY:It's Always Sunny in Philadelphia S17E03 - \nMac and DennisB
	ecome EMTs
DTSTAMP:20250703T102602Z
SEQUENCE:0
UID:197556-3-841ebed20eb198c4569419e99b7bf40a@themidnightzone.com
ORGANIZER;CN="Midnight":midnight@themidnightzone.com
DESCRIPTION:After witnessing EMTs resuscitate a Paddy':s patron\, Macand
	 Dennis set out to become the pinnacle of masculinity\;Frank tries to prov
	e a prank's innocence with TheLawyer\; Dee attempts to hack her part-time 
	side hustle withCharlie's help as he descends into the fast-paced life ofa
	 chef.
DTSTART:20250716T220000Z
DTEND:20250716T223000Z
END:VEVENT
END:VCALENDAR
