BEGIN:VCALENDAR
VERSION:2.0
PRODID:-//InvisionCommunity Events 4.7.23//EN
METHOD:PUBLISH
CALSCALE:GREGORIAN
REFRESH-INTERVAL:PT15M
X-PUBLISHED-TTL:PT15M
X-WR-CALNAME:At My TV
NAME:At My TV
BEGIN:VTIMEZONE
TZID:Europe/London
TZURL:http://tzurl.org/zoneinfo/Europe/London
X-LIC-LOCATION:Europe/London
BEGIN:DAYLIGHT
TZOFFSETFROM:+0000
TZOFFSETTO:+0100
TZNAME:BST
DTSTART:20250330T020000Z
RRULE:FREQ=YEARLY;BYMONTH=3;BYDAY=-1SU
END:DAYLIGHT
BEGIN:STANDARD
TZOFFSETFROM:+0100
TZOFFSETTO:+0000
TZNAME:GMT
DTSTART:20251026T020000Z
RRULE:FREQ=YEARLY;BYMONTH=10;BYDAY=-1SU
END:STANDARD
END:VTIMEZONE
BEGIN:VEVENT
SUMMARY:The Great British Sewing Bee 11x5 - Episode 5
DTSTAMP:20250731T032157Z
SEQUENCE:0
UID:198313-2-841ebed20eb198c4569419e99b7bf40a@themidnightzone.com
ORGANIZER;CN="Midnight":midnight@themidnightzone.com
DESCRIPTION:This week\, it's the fast fashion industry\, the second most
	polluting in the world\, with Sara Pascoe leading Reduce\,Reuse\, Recycle 
	week.In the Pattern Challenge\, the sewerscreate a zero-waste workwear jac
	ket.The TransformationChallenge brings a surprise as the sewers enter the 
	sewing roomto find two tents. Discarded camping gear is given new life ast
	he sewers transform their tent into a completeoutfit.Finally\, in the Made
	 to Measure\, inspired by the MakeDo and Mend campaign\, the sewers raid t
	heir wardrobes andthose of family and friends to create fresh outfits from
	garments no longer worn - embracing the essence ofsustainability.
DTSTART:20250812T200000Z
DTEND:20250812T210000Z
END:VEVENT
END:VCALENDAR
