BEGIN:VCALENDAR
VERSION:2.0
PRODID:-//InvisionCommunity Events 4.7.23//EN
METHOD:PUBLISH
CALSCALE:GREGORIAN
REFRESH-INTERVAL:PT15M
X-PUBLISHED-TTL:PT15M
X-WR-CALNAME:At My TV
NAME:At My TV
BEGIN:VTIMEZONE
TZID:Europe/London
TZURL:http://tzurl.org/zoneinfo/Europe/London
X-LIC-LOCATION:Europe/London
BEGIN:DAYLIGHT
TZOFFSETFROM:+0000
TZOFFSETTO:+0100
TZNAME:BST
DTSTART:20250330T020000Z
RRULE:FREQ=YEARLY;BYMONTH=3;BYDAY=-1SU
END:DAYLIGHT
BEGIN:STANDARD
TZOFFSETFROM:+0100
TZOFFSETTO:+0000
TZNAME:GMT
DTSTART:20251026T020000Z
RRULE:FREQ=YEARLY;BYMONTH=10;BYDAY=-1SU
END:STANDARD
END:VTIMEZONE
BEGIN:VEVENT
SUMMARY:The Motorway Cops: Catching Britain's Speeders 8x7 - Episode
	 7
DTSTAMP:20250813T071952Z
SEQUENCE:0
UID:198728-2-841ebed20eb198c4569419e99b7bf40a@themidnightzone.com
ORGANIZER;CN="Midnight":midnight@themidnightzone.com
DESCRIPTION:Reports come in of two men armed with sledgehammers trying t
	obreak into a supermarket and officers race to the scene tointercept them\
	, calling in the dog unit to assist. In Hull\,PC Billy Stead is on patrol 
	when he spots a car withsignificant damage to its front\, but the driver c
	laims it onlyhappened recently and the garage said it was safe to drive
DTSTART:20250818T190000Z
DTEND:20250818T200000Z
END:VEVENT
END:VCALENDAR
