BEGIN:VCALENDAR
VERSION:2.0
PRODID:-//InvisionCommunity Events 4.7.23//EN
METHOD:PUBLISH
CALSCALE:GREGORIAN
REFRESH-INTERVAL:PT15M
X-PUBLISHED-TTL:PT15M
X-WR-CALNAME:Pogdesign
NAME:Pogdesign
BEGIN:VTIMEZONE
TZID:Europe/London
TZURL:http://tzurl.org/zoneinfo/Europe/London
X-LIC-LOCATION:Europe/London
BEGIN:DAYLIGHT
TZOFFSETFROM:+0000
TZOFFSETTO:+0100
TZNAME:BST
DTSTART:20250330T020000Z
RRULE:FREQ=YEARLY;BYMONTH=3;BYDAY=-1SU
END:DAYLIGHT
BEGIN:STANDARD
TZOFFSETFROM:+0100
TZOFFSETTO:+0000
TZNAME:GMT
DTSTART:20251026T020000Z
RRULE:FREQ=YEARLY;BYMONTH=10;BYDAY=-1SU
END:STANDARD
END:VTIMEZONE
BEGIN:VEVENT
SUMMARY:Hudson & Rex S08E05 - \nFortitude Newfoundland
DTSTAMP:20251007T065401Z
SEQUENCE:0
UID:200427-3-841ebed20eb198c4569419e99b7bf40a@themidnightzone.com
ORGANIZER;CN="Midnight":midnight@themidnightzone.com
DESCRIPTION:When a survivalist competition broadcasts a finalist':sbody 
	live on air\, the team must figure out who was seriousabout burying their 
	competition. Mark and Rex discover that thestaged bear attack was actually
	 murder\, but the show must goon. Rex's keen hearing reveals a dead giveaw
	ay in thebotched broadcast\, leading the team to stage their own finaleto 
	catch the killer - live on TV.
DTSTART:20251020T200000Z
DTEND:20251020T210000Z
END:VEVENT
END:VCALENDAR
