BEGIN:VCALENDAR
VERSION:2.0
PRODID:-//InvisionCommunity Events 4.7.23//EN
METHOD:PUBLISH
CALSCALE:GREGORIAN
REFRESH-INTERVAL:PT15M
X-PUBLISHED-TTL:PT15M
X-WR-CALNAME:At My TV
NAME:At My TV
BEGIN:VTIMEZONE
TZID:Europe/London
TZURL:http://tzurl.org/zoneinfo/Europe/London
X-LIC-LOCATION:Europe/London
BEGIN:DAYLIGHT
TZOFFSETFROM:+0000
TZOFFSETTO:+0100
TZNAME:BST
DTSTART:20250330T020000Z
RRULE:FREQ=YEARLY;BYMONTH=3;BYDAY=-1SU
END:DAYLIGHT
BEGIN:STANDARD
TZOFFSETFROM:+0100
TZOFFSETTO:+0000
TZNAME:GMT
DTSTART:20251026T020000Z
RRULE:FREQ=YEARLY;BYMONTH=10;BYDAY=-1SU
END:STANDARD
END:VTIMEZONE
BEGIN:VEVENT
SUMMARY:The Great British Bake Off 16x6 - Pastry Week
DTSTAMP:20251007T105033Z
SEQUENCE:0
UID:200631-2-841ebed20eb198c4569419e99b7bf40a@themidnightzone.com
ORGANIZER;CN="Midnight":midnight@themidnightzone.com
DESCRIPTION:Noel Fielding and Alison Hammond lead the bakers through pas
	tryweek\, where they make savoury plaits in the signaturechallenge before 
	attempting a traditional gala pie in thetechnical. Finally\, their skills 
	are pushed to the limit withan intricately sculpted tart showstopper. Whos
	e plaits willleave Paul Hollywood and Prue Leith tongue-tied? And whose pi
	ewill equal goodbye?
DTSTART:20251007T190000Z
DTEND:20251007T201100Z
END:VEVENT
END:VCALENDAR
