BEGIN:VCALENDAR
VERSION:2.0
PRODID:-//InvisionCommunity Events 4.7.23//EN
METHOD:PUBLISH
CALSCALE:GREGORIAN
REFRESH-INTERVAL:PT15M
X-PUBLISHED-TTL:PT15M
X-WR-CALNAME:Pogdesign
NAME:Pogdesign
BEGIN:VTIMEZONE
TZID:Europe/London
TZURL:http://tzurl.org/zoneinfo/Europe/London
X-LIC-LOCATION:Europe/London
BEGIN:DAYLIGHT
TZOFFSETFROM:+0000
TZOFFSETTO:+0100
TZNAME:BST
DTSTART:20250330T020000Z
RRULE:FREQ=YEARLY;BYMONTH=3;BYDAY=-1SU
END:DAYLIGHT
BEGIN:STANDARD
TZOFFSETFROM:+0100
TZOFFSETTO:+0000
TZNAME:GMT
DTSTART:20251026T020000Z
RRULE:FREQ=YEARLY;BYMONTH=10;BYDAY=-1SU
END:STANDARD
END:VTIMEZONE
BEGIN:VEVENT
SUMMARY:Real Time with Bill Maher S23E30 - \nOctober 17\, 2025
DTSTAMP:20251010T225402Z
SEQUENCE:0
UID:200810-3-841ebed20eb198c4569419e99b7bf40a@themidnightzone.com
ORGANIZER;CN="Midnight":midnight@themidnightzone.com
DESCRIPTION:Guests: An interview with actor and former governor ofCalifo
	rnia\, Arnold Schwarzenegger. This week's paneldiscussion includes Andrew 
	Ross Sorkin\, host of CNBC's\"Squawk Box\" and author of \"1929: Inside th
	eGreatest Crash in Wall Street History - and How it Shattered aNation\"\; 
	and Mark Cuban\, minority owner of the DallasMavericks and founder of the 
	Mark Cuban Cost Plus Drug Company.
DTSTART:20251017T220000Z
DTEND:20251017T230000Z
END:VEVENT
END:VCALENDAR
