BEGIN:VCALENDAR
VERSION:2.0
PRODID:-//InvisionCommunity Events 4.7.23//EN
METHOD:PUBLISH
CALSCALE:GREGORIAN
REFRESH-INTERVAL:PT15M
X-PUBLISHED-TTL:PT15M
X-WR-CALNAME:At My TV
NAME:At My TV
BEGIN:VTIMEZONE
TZID:Europe/London
TZURL:http://tzurl.org/zoneinfo/Europe/London
X-LIC-LOCATION:Europe/London
BEGIN:DAYLIGHT
TZOFFSETFROM:+0000
TZOFFSETTO:+0100
TZNAME:BST
DTSTART:20250330T020000Z
RRULE:FREQ=YEARLY;BYMONTH=3;BYDAY=-1SU
END:DAYLIGHT
BEGIN:STANDARD
TZOFFSETFROM:+0100
TZOFFSETTO:+0000
TZNAME:GMT
DTSTART:20251026T020000Z
RRULE:FREQ=YEARLY;BYMONTH=10;BYDAY=-1SU
END:STANDARD
END:VTIMEZONE
BEGIN:VEVENT
SUMMARY:The Kelly Clarkson Show 7x31 - Russell Dickerson\, JesseEise
	nberg\, Justice Smith\, Dominic Sessa\, Ariana Greenblatt
DTSTAMP:20251110T130622Z
SEQUENCE:0
UID:202487-2-841ebed20eb198c4569419e99b7bf40a@themidnightzone.com
ORGANIZER;CN="Midnight":midnight@themidnightzone.com
DESCRIPTION:Cameoke: Russell Dickerson performs \"Happen to Me\": JesseE
	isenberg\; Justice Smith\, Dominic Sessa and ArianaGreenblatt\; \"What's C
	reepin' Up On Me?\"\; Paralympians OksanaMasters and Aaron Pike\; author E
	. Lockhart.
DTSTART:20251110T050000Z
DTEND:20251110T060000Z
END:VEVENT
END:VCALENDAR
