BEGIN:VCALENDAR
VERSION:2.0
PRODID:-//InvisionCommunity Events 4.7.23//EN
METHOD:PUBLISH
CALSCALE:GREGORIAN
REFRESH-INTERVAL:PT15M
X-PUBLISHED-TTL:PT15M
X-WR-CALNAME:At My TV
NAME:At My TV
BEGIN:VTIMEZONE
TZID:Europe/London
TZURL:http://tzurl.org/zoneinfo/Europe/London
X-LIC-LOCATION:Europe/London
BEGIN:DAYLIGHT
TZOFFSETFROM:+0000
TZOFFSETTO:+0100
TZNAME:BST
DTSTART:20250330T020000Z
RRULE:FREQ=YEARLY;BYMONTH=3;BYDAY=-1SU
END:DAYLIGHT
BEGIN:STANDARD
TZOFFSETFROM:+0100
TZOFFSETTO:+0000
TZNAME:GMT
DTSTART:20251026T020000Z
RRULE:FREQ=YEARLY;BYMONTH=10;BYDAY=-1SU
END:STANDARD
END:VTIMEZONE
BEGIN:VEVENT
SUMMARY:The Graham Norton Show 33x12 - Jack Black\, Paul Rudd\, Jess
	ieBuckley\, Michelle de Swarte\, Tom Odell
DTSTAMP:20251205T050612Z
SEQUENCE:0
UID:203462-2-841ebed20eb198c4569419e99b7bf40a@themidnightzone.com
ORGANIZER;CN="Midnight":midnight@themidnightzone.com
DESCRIPTION:Together on Graham's sofa tonight: Hollywood comedy greats J
	ackBlack and Paul Rudd\, together at last in horror meta-rebootAnaconda\, 
	Jessie Buckley\, talking about playing WilliamShakespeare's wife Agnes in 
	the tragic drama Hamnet and actressand comedian Michelle de Swarte\, write
	r and star of hit BBCsitcom Spent. With music from Tom Odell\, performing 
	When IClose My Eyes from his current album A Wonderful Life(Epilogue).
DTSTART:20251219T224000Z
DTEND:20251219T233000Z
END:VEVENT
END:VCALENDAR
