BEGIN:VCALENDAR
VERSION:2.0
PRODID:-//InvisionCommunity Events 4.7.23//EN
METHOD:PUBLISH
CALSCALE:GREGORIAN
REFRESH-INTERVAL:PT15M
X-PUBLISHED-TTL:PT15M
X-WR-CALNAME:Pogdesign
NAME:Pogdesign
BEGIN:VTIMEZONE
TZID:Europe/London
TZURL:http://tzurl.org/zoneinfo/Europe/London
X-LIC-LOCATION:Europe/London
BEGIN:DAYLIGHT
TZOFFSETFROM:+0000
TZOFFSETTO:+0100
TZNAME:BST
DTSTART:20260329T020000Z
RRULE:FREQ=YEARLY;BYMONTH=3;BYDAY=-1SU
END:DAYLIGHT
BEGIN:STANDARD
TZOFFSETFROM:+0100
TZOFFSETTO:+0000
TZNAME:GMT
DTSTART:20261025T020000Z
RRULE:FREQ=YEARLY;BYMONTH=10;BYDAY=-1SU
END:STANDARD
END:VTIMEZONE
BEGIN:VEVENT
SUMMARY:Going Dutch S02E02 - \nFarmer's Mark-Tet Offensive
DTSTAMP:20260109T110902Z
SEQUENCE:0
UID:204582-3-841ebed20eb198c4569419e99b7bf40a@themidnightzone.com
ORGANIZER;CN="Midnight":midnight@themidnightzone.com
DESCRIPTION:After a messy break-up\, The Colonel and Katja find themselv
	esgoing to war between the town and the base. Captain Maggietries to de-es
	calate the tension between the two ex-lovers andnegotiate a truce. Meanwhi
	le\, Major Shah needs extra cash andfinds himself roped into a lobster smu
	ggling scheme withPapadakis.
DTSTART:20260122T213000Z
DTEND:20260122T220000Z
END:VEVENT
END:VCALENDAR
