BEGIN:VCALENDAR
VERSION:2.0
PRODID:-//InvisionCommunity Events 4.7.23//EN
METHOD:PUBLISH
CALSCALE:GREGORIAN
REFRESH-INTERVAL:PT15M
X-PUBLISHED-TTL:PT15M
X-WR-CALNAME:At My TV
NAME:At My TV
BEGIN:VTIMEZONE
TZID:Europe/London
TZURL:http://tzurl.org/zoneinfo/Europe/London
X-LIC-LOCATION:Europe/London
BEGIN:DAYLIGHT
TZOFFSETFROM:+0000
TZOFFSETTO:+0100
TZNAME:BST
DTSTART:20260329T020000Z
RRULE:FREQ=YEARLY;BYMONTH=3;BYDAY=-1SU
END:DAYLIGHT
BEGIN:STANDARD
TZOFFSETFROM:+0100
TZOFFSETTO:+0000
TZNAME:GMT
DTSTART:20261025T020000Z
RRULE:FREQ=YEARLY;BYMONTH=10;BYDAY=-1SU
END:STANDARD
END:VTIMEZONE
BEGIN:VEVENT
SUMMARY:Finding Your Roots with Henry Louis Gates Jr. 12x4 - The Roa
	dWe Took
DTSTAMP:20260114T230509Z
SEQUENCE:0
UID:204778-2-841ebed20eb198c4569419e99b7bf40a@themidnightzone.com
ORGANIZER;CN="Midnight":midnight@themidnightzone.com
DESCRIPTION:Henry Louis Gates\, Jr. explores the roots of actor LizzieCa
	plan and comedian Hasan Minhaj\, uncovering ancestors whomade brave decisi
	ons that forever reshaped their family trees.Moving from shtetls in Easter
	n Europe to farmlands in northernIndia to the shores of the United States\
	, Gates introduces hisguests to the women and men who overcame enormous ha
	rdships tofind a better future.
DTSTART:20260128T010000Z
DTEND:20260128T020000Z
END:VEVENT
END:VCALENDAR
