BEGIN:VCALENDAR
VERSION:2.0
PRODID:-//InvisionCommunity Events 4.7.23//EN
METHOD:PUBLISH
CALSCALE:GREGORIAN
REFRESH-INTERVAL:PT15M
X-PUBLISHED-TTL:PT15M
X-WR-CALNAME:At My TV
NAME:At My TV
BEGIN:VTIMEZONE
TZID:Europe/London
TZURL:http://tzurl.org/zoneinfo/Europe/London
X-LIC-LOCATION:Europe/London
BEGIN:DAYLIGHT
TZOFFSETFROM:+0000
TZOFFSETTO:+0100
TZNAME:BST
DTSTART:20260329T020000Z
RRULE:FREQ=YEARLY;BYMONTH=3;BYDAY=-1SU
END:DAYLIGHT
BEGIN:STANDARD
TZOFFSETFROM:+0100
TZOFFSETTO:+0000
TZNAME:GMT
DTSTART:20261025T020000Z
RRULE:FREQ=YEARLY;BYMONTH=10;BYDAY=-1SU
END:STANDARD
END:VTIMEZONE
BEGIN:VEVENT
SUMMARY:NOVA 53x2 - Angkor: Hidden Jungle Empire
DTSTAMP:20260115T070510Z
SEQUENCE:0
UID:204822-2-841ebed20eb198c4569419e99b7bf40a@themidnightzone.com
ORGANIZER;CN="Midnight":midnight@themidnightzone.com
DESCRIPTION:Uncover the lost secrets of a once-mighty empire. The city o
	fAngkor\, the seat of the great Khmer Empire in Southeast Asiafor 500 year
	s\, was once the biggest city in the world. Forcenturies\, this incredible
	 civilization flourished\, buildingthe largest religious monument on Earth
	\, Angkor Wat\, andmastering urban engineering in a challenging landscape.
	 Butthen it was mysteriously abandoned\, swallowed by the jungle.Now\, cut
	ting-edge technology and new discoveries are finallyrevealing how this ast
	ounding empire rose to global prominence– and what likely led to its dev
	astating collapse. Follow ascientific detective story that is challenging 
	everything wethought we knew about this ancient metropolis.
DTSTART:20260129T020000Z
DTEND:20260129T030000Z
END:VEVENT
END:VCALENDAR
