BEGIN:VCALENDAR
VERSION:2.0
PRODID:-//InvisionCommunity Events 4.7.23//EN
METHOD:PUBLISH
CALSCALE:GREGORIAN
REFRESH-INTERVAL:PT15M
X-PUBLISHED-TTL:PT15M
X-WR-CALNAME:At My TV
NAME:At My TV
BEGIN:VTIMEZONE
TZID:Europe/London
TZURL:http://tzurl.org/zoneinfo/Europe/London
X-LIC-LOCATION:Europe/London
BEGIN:DAYLIGHT
TZOFFSETFROM:+0000
TZOFFSETTO:+0100
TZNAME:BST
DTSTART:20260329T020000Z
RRULE:FREQ=YEARLY;BYMONTH=3;BYDAY=-1SU
END:DAYLIGHT
BEGIN:STANDARD
TZOFFSETFROM:+0100
TZOFFSETTO:+0000
TZNAME:GMT
DTSTART:20261025T020000Z
RRULE:FREQ=YEARLY;BYMONTH=10;BYDAY=-1SU
END:STANDARD
END:VTIMEZONE
BEGIN:VEVENT
SUMMARY:Tamron Hall 7x75 - Kenan Thompson
DTSTAMP:20260119T070511Z
SEQUENCE:0
UID:204991-2-841ebed20eb198c4569419e99b7bf40a@themidnightzone.com
ORGANIZER;CN="Midnight":midnight@themidnightzone.com
DESCRIPTION:A really fun hour with SNL star KENAN THOMPSON\, here to sha
	redetails of his new children's book\, \"Unfunny Bunny\,\" andmore. Plus\,
	 meet 8-year-old internet sensation @MILES_GEMS whocharmed the audience wi
	th his personality after appearing on\"Recess Therapy.\" Now he's here wit
	h his best friend\, ZOEY\,to share their new podcast\, \"Mini Gems with Mi
	les &amp\;Zoey.\" And 10-year-old Detroit native ROSIE WHITE talks abouthe
	r classic movie reenactments that have taken over theinternet and caught t
	he eye of A-list celebrities.
DTSTART:20260121T050000Z
DTEND:20260121T060000Z
END:VEVENT
END:VCALENDAR
