BEGIN:VCALENDAR
VERSION:2.0
PRODID:-//InvisionCommunity Events 4.7.23//EN
METHOD:PUBLISH
CALSCALE:GREGORIAN
REFRESH-INTERVAL:PT15M
X-PUBLISHED-TTL:PT15M
X-WR-CALNAME:At My TV
NAME:At My TV
BEGIN:VTIMEZONE
TZID:Europe/London
TZURL:http://tzurl.org/zoneinfo/Europe/London
X-LIC-LOCATION:Europe/London
BEGIN:DAYLIGHT
TZOFFSETFROM:+0000
TZOFFSETTO:+0100
TZNAME:BST
DTSTART:20260329T020000Z
RRULE:FREQ=YEARLY;BYMONTH=3;BYDAY=-1SU
END:DAYLIGHT
BEGIN:STANDARD
TZOFFSETFROM:+0100
TZOFFSETTO:+0000
TZNAME:GMT
DTSTART:20261025T020000Z
RRULE:FREQ=YEARLY;BYMONTH=10;BYDAY=-1SU
END:STANDARD
END:VTIMEZONE
BEGIN:VEVENT
SUMMARY:The Masked Singer 7x5 - Episode 5
DTSTAMP:20260121T070512Z
SEQUENCE:0
UID:205091-2-841ebed20eb198c4569419e99b7bf40a@themidnightzone.com
ORGANIZER;CN="Midnight":midnight@themidnightzone.com
DESCRIPTION:Joel Dommett is joined by panellists Jonathan Ross\, DavinaM
	cCall\, Maya Jama\, Mo Gilligan and special guest PerrieEdwards for anothe
	r edition of the guessing game wherecelebrities perform undercover in elab
	orate costumes. All eightremaining incognito stars come together for the f
	irst time andperform before there is a double unmasking.
DTSTART:20260124T190000Z
DTEND:20260124T203000Z
END:VEVENT
END:VCALENDAR
