BEGIN:VCALENDAR
VERSION:2.0
PRODID:-//InvisionCommunity Events 4.7.23//EN
METHOD:PUBLISH
CALSCALE:GREGORIAN
REFRESH-INTERVAL:PT15M
X-PUBLISHED-TTL:PT15M
X-WR-CALNAME:At My TV
NAME:At My TV
BEGIN:VTIMEZONE
TZID:Europe/London
TZURL:http://tzurl.org/zoneinfo/Europe/London
X-LIC-LOCATION:Europe/London
BEGIN:DAYLIGHT
TZOFFSETFROM:+0000
TZOFFSETTO:+0100
TZNAME:BST
DTSTART:20260329T020000Z
RRULE:FREQ=YEARLY;BYMONTH=3;BYDAY=-1SU
END:DAYLIGHT
BEGIN:STANDARD
TZOFFSETFROM:+0100
TZOFFSETTO:+0000
TZNAME:GMT
DTSTART:20261025T020000Z
RRULE:FREQ=YEARLY;BYMONTH=10;BYDAY=-1SU
END:STANDARD
END:VTIMEZONE
BEGIN:VEVENT
SUMMARY:Tamron Hall 7x80 - Scroll Control: Raising the AmazingGenera
	tion
DTSTAMP:20260123T070514Z
SEQUENCE:0
UID:205187-2-841ebed20eb198c4569419e99b7bf40a@themidnightzone.com
ORGANIZER;CN="Midnight":midnight@themidnightzone.com
DESCRIPTION:New York Times bestselling authors JONATHAN HAIDT and CATHER
	INEPRICE discuss their new book \"The Amazing Generation: YourGuide to Fun
	 and Freedom in a Screen-Filled World.\" The globalconversation on how to 
	empower young people to choose a lifenot dominated by screens and social m
	edia. Plus\, we meet a24-year-old California native who has chosen life wi
	thoutsocial media or Internet access on her phone\, and a Palm Beachcouple
	 who share how a weekday phone ban has reshaped theirfamily life and surpr
	ised their kids. And\, Jonathan andCatherine answer questions from the Tam
	Fam.
DTSTART:20260128T050000Z
DTEND:20260128T060000Z
END:VEVENT
END:VCALENDAR
