BEGIN:VCALENDAR
VERSION:2.0
PRODID:-//InvisionCommunity Events 4.7.23//EN
METHOD:PUBLISH
CALSCALE:GREGORIAN
REFRESH-INTERVAL:PT15M
X-PUBLISHED-TTL:PT15M
X-WR-CALNAME:At My TV
NAME:At My TV
BEGIN:VTIMEZONE
TZID:Europe/London
TZURL:http://tzurl.org/zoneinfo/Europe/London
X-LIC-LOCATION:Europe/London
BEGIN:DAYLIGHT
TZOFFSETFROM:+0000
TZOFFSETTO:+0100
TZNAME:BST
DTSTART:20260329T020000Z
RRULE:FREQ=YEARLY;BYMONTH=3;BYDAY=-1SU
END:DAYLIGHT
BEGIN:STANDARD
TZOFFSETFROM:+0100
TZOFFSETTO:+0000
TZNAME:GMT
DTSTART:20261025T020000Z
RRULE:FREQ=YEARLY;BYMONTH=10;BYDAY=-1SU
END:STANDARD
END:VTIMEZONE
BEGIN:VEVENT
SUMMARY:The Jennifer Hudson Show 4x77 - Lisa Ann Walter\, SuleikaJao
	uad
DTSTAMP:20260126T070516Z
SEQUENCE:0
UID:205279-2-841ebed20eb198c4569419e99b7bf40a@themidnightzone.com
ORGANIZER;CN="Midnight":midnight@themidnightzone.com
DESCRIPTION:\"Abbott Elementary\" star Lisa Ann Walter and Jennifer ta
	lkabout the hit comedy series. Author\, artist\, andadvocate Suleika Jao
	uad stops by to talk about \"AlchemyJournal\,\" her companion journal to 
	\"The Book ofAlchemy.\" Then\, Jennifer welcomes Michelle Davis fromDet
	roit\, Michigan! Michelle is the principal of DavisAerospace Technical Hig
	h School\, a Title I public schooldedicated to empowering students to beco
	me pilots or planemechanics or learn how to fly drones. The two discuss ho
	wMichelle is making a lasting impact on her students andcommunity! 
DTSTART:20260126T050000Z
DTEND:20260126T060000Z
END:VEVENT
END:VCALENDAR
