BEGIN:VCALENDAR
VERSION:2.0
PRODID:-//InvisionCommunity Events 4.7.23//EN
METHOD:PUBLISH
CALSCALE:GREGORIAN
REFRESH-INTERVAL:PT15M
X-PUBLISHED-TTL:PT15M
X-WR-CALNAME:Pogdesign
NAME:Pogdesign
BEGIN:VTIMEZONE
TZID:Europe/London
TZURL:http://tzurl.org/zoneinfo/Europe/London
X-LIC-LOCATION:Europe/London
BEGIN:DAYLIGHT
TZOFFSETFROM:+0000
TZOFFSETTO:+0100
TZNAME:BST
DTSTART:20260329T020000Z
RRULE:FREQ=YEARLY;BYMONTH=3;BYDAY=-1SU
END:DAYLIGHT
BEGIN:STANDARD
TZOFFSETFROM:+0100
TZOFFSETTO:+0000
TZNAME:GMT
DTSTART:20261025T020000Z
RRULE:FREQ=YEARLY;BYMONTH=10;BYDAY=-1SU
END:STANDARD
END:VTIMEZONE
BEGIN:VEVENT
SUMMARY:It's Not Like That S01E04 - \nThe Space I Keep Forgetting Yo
	u
DTSTAMP:20260126T110902Z
SEQUENCE:0
UID:205282-3-841ebed20eb198c4569419e99b7bf40a@themidnightzone.com
ORGANIZER;CN="Midnight":midnight@themidnightzone.com
DESCRIPTION:Lori and David partner on a shared client\, pop star ClaireL
	eslie\, but his jealousy of Malcolm festers\, causing David tomake a bad d
	ecision. Casey blocks Pen from concert tickets\,shaking Pen's fragile popu
	larity at school. Floraexplores songwriting and grows closer to Merritt. M
	alcolm goeson his first date in decades\, then discovers a spark whilenavi
	gating a challenge with Justin.
DTSTART:20260208T235900Z
DTEND:20260209T005900Z
END:VEVENT
END:VCALENDAR
