BEGIN:VCALENDAR
VERSION:2.0
PRODID:-//InvisionCommunity Events 4.7.23//EN
METHOD:PUBLISH
CALSCALE:GREGORIAN
REFRESH-INTERVAL:PT15M
X-PUBLISHED-TTL:PT15M
X-WR-CALNAME:At My TV
NAME:At My TV
BEGIN:VTIMEZONE
TZID:Europe/London
TZURL:http://tzurl.org/zoneinfo/Europe/London
X-LIC-LOCATION:Europe/London
BEGIN:DAYLIGHT
TZOFFSETFROM:+0000
TZOFFSETTO:+0100
TZNAME:BST
DTSTART:20260329T020000Z
RRULE:FREQ=YEARLY;BYMONTH=3;BYDAY=-1SU
END:DAYLIGHT
BEGIN:STANDARD
TZOFFSETFROM:+0100
TZOFFSETTO:+0000
TZNAME:GMT
DTSTART:20261025T020000Z
RRULE:FREQ=YEARLY;BYMONTH=10;BYDAY=-1SU
END:STANDARD
END:VTIMEZONE
BEGIN:VEVENT
SUMMARY:NOVA 53x4 - Mammal Origins
DTSTAMP:20260129T070519Z
SEQUENCE:0
UID:205349-2-841ebed20eb198c4569419e99b7bf40a@themidnightzone.com
ORGANIZER;CN="Midnight":midnight@themidnightzone.com
DESCRIPTION:Uncover the surprising ancient origins of mammals\, a storyt
	hat began long before the dinosaurs' reign. Surveying Earth'stumultuous pa
	st reveals how some of our earliest ancestors\,the therapsids – creature
	s that looked like reptiles but werestarting to develop mammalian traits
	 – survived multipleglobal catastrophes. Through remarkable adaptations 
	likeburrowing and the emergence of warm-bloodedness\, they forged alineage
	 that persevered against all odds. Fascinating fossilclues and cutting-edg
	e science reveal how a small\, resilientgroup of animals faced extinction 
	events\, outlived giants\,and ultimately gave rise to the diverse world of
	 mammals weknow today\, including us.
DTSTART:20260212T020000Z
DTEND:20260212T030000Z
END:VEVENT
END:VCALENDAR
