BEGIN:VCALENDAR
VERSION:2.0
PRODID:-//InvisionCommunity Events 4.7.23//EN
METHOD:PUBLISH
CALSCALE:GREGORIAN
REFRESH-INTERVAL:PT15M
X-PUBLISHED-TTL:PT15M
X-WR-CALNAME:At My TV
NAME:At My TV
BEGIN:VTIMEZONE
TZID:Europe/London
TZURL:http://tzurl.org/zoneinfo/Europe/London
X-LIC-LOCATION:Europe/London
BEGIN:DAYLIGHT
TZOFFSETFROM:+0000
TZOFFSETTO:+0100
TZNAME:BST
DTSTART:20260329T020000Z
RRULE:FREQ=YEARLY;BYMONTH=3;BYDAY=-1SU
END:DAYLIGHT
BEGIN:STANDARD
TZOFFSETFROM:+0100
TZOFFSETTO:+0000
TZNAME:GMT
DTSTART:20261025T020000Z
RRULE:FREQ=YEARLY;BYMONTH=10;BYDAY=-1SU
END:STANDARD
END:VTIMEZONE
BEGIN:VEVENT
SUMMARY:This Old House 47x15 - Needham: Getting Our Ducts in a Row
DTSTAMP:20260201T070520Z
SEQUENCE:0
UID:205456-2-841ebed20eb198c4569419e99b7bf40a@themidnightzone.com
ORGANIZER;CN="Midnight":midnight@themidnightzone.com
DESCRIPTION:Richard meets with the HVAC subs who are here to re-duct the
	house to make the system more efficient. Charlie demos thethird-floor ceil
	ing to make room for new Episode DescriptionsSeason 47 insulation. Meanwhi
	le\, Tommy and Kevin install adouble-hung window located in the dining roo
	m that looks ontothe front porch.
DTSTART:20260213T010000Z
DTEND:20260213T013000Z
END:VEVENT
END:VCALENDAR
