BEGIN:VCALENDAR
VERSION:2.0
PRODID:-//InvisionCommunity Events 4.7.23//EN
METHOD:PUBLISH
CALSCALE:GREGORIAN
REFRESH-INTERVAL:PT15M
X-PUBLISHED-TTL:PT15M
X-WR-CALNAME:At My TV
NAME:At My TV
BEGIN:VTIMEZONE
TZID:Europe/London
TZURL:http://tzurl.org/zoneinfo/Europe/London
X-LIC-LOCATION:Europe/London
BEGIN:DAYLIGHT
TZOFFSETFROM:+0000
TZOFFSETTO:+0100
TZNAME:BST
DTSTART:20260329T020000Z
RRULE:FREQ=YEARLY;BYMONTH=3;BYDAY=-1SU
END:DAYLIGHT
BEGIN:STANDARD
TZOFFSETFROM:+0100
TZOFFSETTO:+0000
TZNAME:GMT
DTSTART:20261025T020000Z
RRULE:FREQ=YEARLY;BYMONTH=10;BYDAY=-1SU
END:STANDARD
END:VTIMEZONE
BEGIN:VEVENT
SUMMARY:Tamron Hall 7x87 - Be Happy
DTSTAMP:20260203T070521Z
SEQUENCE:0
UID:205559-2-841ebed20eb198c4569419e99b7bf40a@themidnightzone.com
ORGANIZER;CN="Midnight":midnight@themidnightzone.com
DESCRIPTION:Powerhouses GABOUREY SIDIBE\, TISHA CAMPBELL and MONASCOTT-Y
	OUNG talk about their new Lifetime movie \"Mary J. BligePresents: Be Happy
	\,\" inspired by the hit song. Andchart-topping pop star\, Broadway perfor
	mer and \"RealHousewives of Beverly Hills\" star ERIKA JAYNE on reclaiming
	 herstory\, her sound and her joy.
DTSTART:20260206T050000Z
DTEND:20260206T060000Z
END:VEVENT
END:VCALENDAR
