BEGIN:VCALENDAR
VERSION:2.0
PRODID:-//InvisionCommunity Events 4.7.23//EN
METHOD:PUBLISH
CALSCALE:GREGORIAN
REFRESH-INTERVAL:PT15M
X-PUBLISHED-TTL:PT15M
X-WR-CALNAME:At My TV
NAME:At My TV
BEGIN:VTIMEZONE
TZID:Europe/London
TZURL:http://tzurl.org/zoneinfo/Europe/London
X-LIC-LOCATION:Europe/London
BEGIN:DAYLIGHT
TZOFFSETFROM:+0000
TZOFFSETTO:+0100
TZNAME:BST
DTSTART:20260329T020000Z
RRULE:FREQ=YEARLY;BYMONTH=3;BYDAY=-1SU
END:DAYLIGHT
BEGIN:STANDARD
TZOFFSETFROM:+0100
TZOFFSETTO:+0000
TZNAME:GMT
DTSTART:20261025T020000Z
RRULE:FREQ=YEARLY;BYMONTH=10;BYDAY=-1SU
END:STANDARD
END:VTIMEZONE
BEGIN:VEVENT
SUMMARY:Tamron Hall 7x85 - Daytime Exclusive with Michael Vick
DTSTAMP:20260203T070521Z
SEQUENCE:0
UID:205562-2-841ebed20eb198c4569419e99b7bf40a@themidnightzone.com
ORGANIZER;CN="Midnight":midnight@themidnightzone.com
DESCRIPTION:Former NFL star MICHAEL VICK is sharing his journey as headf
	ootball coach at Norfolk State University in the newdocuseries \"The Coach
	 Vick Experience.\" Later\, hisEmmy-nominated wife\, KIJAFA VICK\, joins t
	he conversation.Then\, WNBA icons AERIAL POWERS and ANGEL MCCOUGHTRY team 
	upwith the new president of Players TV\, MICHELE GHEE\, to sharewhat they'
	ve been building. Plus\, a special surprise from NBAstar KYRIE IRVING.
DTSTART:20260204T050000Z
DTEND:20260204T060000Z
END:VEVENT
END:VCALENDAR
