BEGIN:VCALENDAR
VERSION:2.0
PRODID:-//InvisionCommunity Events 4.7.23//EN
METHOD:PUBLISH
CALSCALE:GREGORIAN
REFRESH-INTERVAL:PT15M
X-PUBLISHED-TTL:PT15M
X-WR-CALNAME:At My TV
NAME:At My TV
BEGIN:VTIMEZONE
TZID:Europe/London
TZURL:http://tzurl.org/zoneinfo/Europe/London
X-LIC-LOCATION:Europe/London
BEGIN:DAYLIGHT
TZOFFSETFROM:+0000
TZOFFSETTO:+0100
TZNAME:BST
DTSTART:20260329T020000Z
RRULE:FREQ=YEARLY;BYMONTH=3;BYDAY=-1SU
END:DAYLIGHT
BEGIN:STANDARD
TZOFFSETFROM:+0100
TZOFFSETTO:+0000
TZNAME:GMT
DTSTART:20261025T020000Z
RRULE:FREQ=YEARLY;BYMONTH=10;BYDAY=-1SU
END:STANDARD
END:VTIMEZONE
BEGIN:VEVENT
SUMMARY:Death In Paradise 15x3 - Episode 3
DTSTAMP:20260205T150523Z
SEQUENCE:0
UID:205643-2-841ebed20eb198c4569419e99b7bf40a@themidnightzone.com
ORGANIZER;CN="Midnight":midnight@themidnightzone.com
DESCRIPTION:Mervin and the team are left perplexed when a reclusivepensi
	oner is shot dead in his home. A prime suspect is quicklyestablished in th
	e form of an unassuming accountant. Theevidence seems damning – a figure
	 matching the suspect'sdescription was witnessed fleeing the crime scene. 
	And whenquestioned\, there's clearly something shifty about this guy.The o
	nly problem? He's got a rock-solid alibi.Meanwhile\, thecommissioner is de
	termined to get the islanders back on sidewith a community-focused initiat
	ive. But tensions rise whenMervin goes rogue during the launch event.
DTSTART:20260216T210000Z
DTEND:20260216T220000Z
END:VEVENT
END:VCALENDAR
