BEGIN:VCALENDAR
VERSION:2.0
PRODID:-//InvisionCommunity Events 4.7.23//EN
METHOD:PUBLISH
CALSCALE:GREGORIAN
REFRESH-INTERVAL:PT15M
X-PUBLISHED-TTL:PT15M
X-WR-CALNAME:At My TV
NAME:At My TV
BEGIN:VTIMEZONE
TZID:Europe/London
TZURL:http://tzurl.org/zoneinfo/Europe/London
X-LIC-LOCATION:Europe/London
BEGIN:DAYLIGHT
TZOFFSETFROM:+0000
TZOFFSETTO:+0100
TZNAME:BST
DTSTART:20260329T020000Z
RRULE:FREQ=YEARLY;BYMONTH=3;BYDAY=-1SU
END:DAYLIGHT
BEGIN:STANDARD
TZOFFSETFROM:+0100
TZOFFSETTO:+0000
TZNAME:GMT
DTSTART:20261025T020000Z
RRULE:FREQ=YEARLY;BYMONTH=10;BYDAY=-1SU
END:STANDARD
END:VTIMEZONE
BEGIN:VEVENT
SUMMARY:The Last Leg 34x3 - Brian Cox\, Marcus Mumford
DTSTAMP:20260207T070523Z
SEQUENCE:0
UID:205711-2-841ebed20eb198c4569419e99b7bf40a@themidnightzone.com
ORGANIZER;CN="Midnight":midnight@themidnightzone.com
DESCRIPTION:Adam Hills\, Josh Widdicombe and Alex Brooker are joined bya
	ctor Brian Cox and singer Marcus Mumford for a comic review ofthe signific
	ant moments of the past seven days. As usual\, thehashtag #isitok paves th
	e way for the gang to round up\,examine and explain the leading and most e
	ntertaining newsstories of the week.
DTSTART:20260213T220000Z
DTEND:20260213T230500Z
END:VEVENT
END:VCALENDAR
