BEGIN:VCALENDAR
VERSION:2.0
PRODID:-//InvisionCommunity Events 4.7.23//EN
METHOD:PUBLISH
CALSCALE:GREGORIAN
REFRESH-INTERVAL:PT15M
X-PUBLISHED-TTL:PT15M
X-WR-CALNAME:At My TV
NAME:At My TV
BEGIN:VTIMEZONE
TZID:Europe/London
TZURL:http://tzurl.org/zoneinfo/Europe/London
X-LIC-LOCATION:Europe/London
BEGIN:DAYLIGHT
TZOFFSETFROM:+0000
TZOFFSETTO:+0100
TZNAME:BST
DTSTART:20260329T020000Z
RRULE:FREQ=YEARLY;BYMONTH=3;BYDAY=-1SU
END:DAYLIGHT
BEGIN:STANDARD
TZOFFSETFROM:+0100
TZOFFSETTO:+0000
TZNAME:GMT
DTSTART:20261025T020000Z
RRULE:FREQ=YEARLY;BYMONTH=10;BYDAY=-1SU
END:STANDARD
END:VTIMEZONE
BEGIN:VEVENT
SUMMARY:Tamron Hall 7x89 - Love Week: Beyond Relationship Goals
DTSTAMP:20260209T070525Z
SEQUENCE:0
UID:205795-2-841ebed20eb198c4569419e99b7bf40a@themidnightzone.com
ORGANIZER;CN="Midnight":midnight@themidnightzone.com
DESCRIPTION:GRAMMY® Award-winning artists KELLY ROWLAND and CLIFF \"MET
	HODMAN\" SMITH\, stars of the romantic comedy \"RelationshipGoals\,\" sit 
	down with the Tam Fam to chat about workingtogether and new music on the w
	ay. Then\, PASTOR MIKE TODD\,whose New York Times bestselling book inspire
	d the film\, sitsdown with visionary producer DEVON FRANKLIN. Later\,bests
	elling author and \"your rich BFF\" VIVIAN TU discusses hernew book\, \"We
	ll Endowed\,\" breaking down love\, marriage andsmart money moves. Plus\, 
	more special Love Week giveaways.
DTSTART:20260210T050000Z
DTEND:20260210T060000Z
END:VEVENT
END:VCALENDAR
